{"text_format":"1","workbook":"xlsx","n_sheets":2,"sheets":["Regles du jeu","Test"],"not_rendered":{"charts":1,"images":1,"macros":1,"external_links":0,"defined_names":1,"comments":0,"pivot_tables":0},"unopened":[],"bounds":{"document_bytes":16777216,"sheet_cells":100000,"rows_first":2000,"rows_last":500,"rows_between":2000,"halvings":0,"cell_chars":16384,"cell_head_chars":4096},"cells_cut":0,"cells_raw":0,"read":"whole","date_system":"1900"}

{"sheet":"Regles du jeu","index":0,"n_rows":14,"n_cols":7,"rows_kept":14,"cut":false,"hidden":false,"merged":[]}
[null,"Coût",2]
[null,"Nombre de tickets","Taux","Gain brut","Gain net","Tickets","Argent redistribué"]
[null,{"$f":"B12-SUM(B4:B11)","v":1172962},{"$f":"B3/$B$12","v":0.78197466666666671},0,{"$f":"D3-$C$1","v":-2},{"$f":"B3*E3","v":-2345924}]
[null,100000,{"$f":"B4/$B$12","v":6.6666666666666666E-2},2,{"$f":"D4-$C$1","v":0},0,{"$f":"SUM(B4*D4)","v":200000}]
[null,157894,0.10526266666666667,4,2,315788,{"$f":"SUM(B5*D5)","v":631576}]
[null,50000,3.3333333333333333E-2,10,8,400000,500000]
[null,15000,0.01,20,18,270000,300000]
[null,3530,2.3533333333333331E-3,50,48,169440,176500]
[null,600,4.0000000000000002E-4,200,198,118800,120000]
[null,12,7.9999999999999996E-6,1000,998,11976,12000]
[null,2,1.3333333333333334E-6,20000,19998,39996,40000]
["Total",1500000,{"$f":"SUM(C3:C11)","v":1}]
[null,null,null,null,"Total redistribué",{"$f":"SUM(G4:G11)","v":1980076}]
[null,null,null,null,"Espérance de gain",{"$f":"SUM(F3:F11)/B12","v":-0.67994933333333329}]

{"sheet":"Test","index":1,"n_rows":1002,"n_cols":35,"rows_kept":1002,"cut":false,"hidden":false,"merged":[]}
[null,"Gain brut","Gain net",null,null,null,"Tickets",null,"Tirages (entre 1 et 1000)",1,"Gain max ?","Gain sans le max","somme","Max","Détail des gains"]
[0.75757066666666661,{"$f":"'Regles du jeu'!D3","v":0},{"$f":"'Regles du jeu'!E3","v":-2},1136356,1500000,{"$f":"1500000-D2","v":363644},-1136356,1,{"$f":"ROUND(RAND()*(1500000-1),0)","v":146373},{"$f":"IF($J$1<2,I2)","v":146373},{"$f":"IF(I2<=$E$10,C10)","v":false},{"$f":"IF(I2>=$F$2,$C$2,(IF(I2>=$F$3,$C$3,IF(I2>=$F$4,$C$4,IF(I2>=$F$5,$C$5,IF(I2>=$F$6,$C$6,IF(I2>=$F$7,$C$7,IF(I2>=$F$8,$C$8,IF(I2>=$F$9,$C$9,IF(I2>=0,999))))))))))","v":2},{"$f":"SUM(O2)","v":2},{"$f":"MAX(L2)","v":2},{"$f":"IF(K2=FALSE,L2,L2)","v":2}]
[7.3999999999999996E-2,{"$f":"'Regles du jeu'!D4","v":2},{"$f":"'Regles du jeu'!E4","v":0},111000,{"$f":"F2","v":363644},{"$f":"E3-D3","v":252644},0,2,{"$f":"ROUND(RAND()*(1500000-1),0)","v":963555},{"$f":"IF($J$1<2,I3)","v":963555},{"$f":"IF(I3<=$E$10,C11)","v":false},{"$f":"IF(I3>=$F$2,$C$2,(IF(I3>=$F$3,$C$3,IF(I3>=$F$4,$C$4,IF(I3>=$F$5,$C$5,IF(I3>=$F$6,$C$6,IF(I3>=$F$7,$C$7,IF(I3>=$F$8,$C$8,IF(I3>=$F$9,$C$9,IF(I3>=0,999))))))))))","v":-2},{"$f":"SUM($O$2:O3)","v":0},{"$f":"MAX($L$2:L3)","v":2},{"$f":"IF(K3=FALSE,L3,C11)","v":-2}]
[0.12533333333333332,{"$f":"'Regles du jeu'!D5","v":4},{"$f":"'Regles du jeu'!E5","v":2},188000,{"$f":"F3","v":252644},{"$f":"E4-D4","v":64644},188000,3,117600,{"$f":"IF($J$1<2,I4)","v":117600},false,2,{"$f":"SUM($O$2:O4)","v":2},{"$f":"MAX($L$2:L4)","v":2},2]
[2.8666666666666667E-2,{"$f":"'Regles du jeu'!D6","v":10},{"$f":"'Regles du jeu'!E6","v":8},43000,64644,21644,172000,4,1486805,{"$f":"IF($J$1<2,I5)","v":1486805},false,-2,{"$f":"SUM($O$2:O5)","v":0},{"$f":"MAX($L$2:L5)","v":2},-2]
[1.4E-2,{"$f":"'Regles du jeu'!D7","v":20},{"$f":"'Regles du jeu'!E7","v":18},21000,21644,644,189000,5,1068155,1068155,false,-2,{"$f":"SUM($O$2:O6)","v":-2},{"$f":"MAX($L$2:L6)","v":2},-2]
[3.3333333333333332E-4,{"$f":"'Regles du jeu'!D8","v":50},{"$f":"'Regles du jeu'!E8","v":48},500,644,144,9500,6,40859,40859,false,8,{"$f":"SUM($O$2:O7)","v":6},{"$f":"MAX($L$2:L7)","v":8},8,null,null,null,null,null,null,null,null,null,"Entrez un chiffre entre 1 et 1000",null,null,null,30]
[5.3333333333333333E-5,{"$f":"'Regles du jeu'!D9","v":200},{"$f":"'Regles du jeu'!E9","v":198},80,144,64,3920,7,1227336,1227336,false,-2,{"$f":"SUM($O$2:O8)","v":4},{"$f":"MAX($L$2:L8)","v":8},-2]
[4.0000000000000003E-5,{"$f":"'Regles du jeu'!D10","v":1000},{"$f":"'Regles du jeu'!E10","v":998},60,64,4,14940,8,779026,779026,false,-2,{"$f":"SUM($O$2:O9)","v":2},{"$f":"MAX($L$2:L9)","v":8},-2]
[2.6666666666666668E-6,{"$f":"'Regles du jeu'!D11","v":20000},{"$f":"'Regles du jeu'!E11","v":19998},4,4,0,3996,9,716467,716467,false,-2,{"$f":"SUM($O$2:O10)","v":0},{"$f":"MAX($L$2:L10)","v":8},-2]
[1500000,null,null,null,null,null,null,10,1347901,1347901,false,-2,{"$f":"SUM($O$2:O11)","v":-2},{"$f":"MAX($L$2:L11)","v":8},-2]
[null,null,null,null,null,null,null,11,1417937,1417937,false,-2,{"$f":"SUM($O$2:O12)","v":-4},{"$f":"MAX($L$2:L12)","v":8},-2,null,null,null,null,null,null,null,"Total des gain pour",null,{"$f":"AC7","v":30},"tickets achetés :",null,{"$f":"LOOKUP(Y12,H:H,M:M)","v":-28}]
[null,null,null,null,null,null,null,12,193608,193608,false,2,{"$f":"SUM($O$2:O13)","v":-2},{"$f":"MAX($L$2:L13)","v":8},2]
[null,null,null,null,null,null,null,13,471799,471799,false,-2,{"$f":"SUM($O$2:O14)","v":-4},{"$f":"MAX($L$2:L14)","v":8},-2,null,null,null,null,null,null,null,null,null,null,"soit en moyenne",null,{"$f":"AB12/Y12","v":-0.93333333333333335},{"$f":"IF(AB14<0,\"de pertes par ticket\",\"de gains par ticket\")","v":"de pertes par ticket"},null,"(valeur théorique - espérance :",null,null,{"$f":"'Regles du jeu'!F14","v":-0.67994933333333329},")"]
[null,null,null,null,null,null,null,14,1185579,1185579,false,-2,{"$f":"SUM($O$2:O15)","v":-6},{"$f":"MAX($L$2:L15)","v":8},-2]
[null,null,null,null,null,null,null,15,720697,720697,false,-2,{"$f":"SUM($O$2:O16)","v":-8},{"$f":"MAX($L$2:L16)","v":8},-2]
[null,null,null,null,null,null,null,16,319422,319422,false,0,{"$f":"SUM($O$2:O17)","v":-8},{"$f":"MAX($L$2:L17)","v":8},0]
[null,null,null,null,null,null,null,17,903398,903398,false,-2,{"$f":"SUM($O$2:O18)","v":-10},{"$f":"MAX($L$2:L18)","v":8},-2]
[null,null,null,null,null,null,null,18,458583,458583,false,-2,{"$f":"SUM($O$2:O19)","v":-12},{"$f":"MAX($L$2:L19)","v":8},-2]
[null,null,null,null,null,null,null,19,1048161,1048161,false,-2,{"$f":"SUM($O$2:O20)","v":-14},{"$f":"MAX($L$2:L20)","v":8},-2]
[null,null,null,null,null,null,null,20,875238,875238,false,-2,{"$f":"SUM($O$2:O21)","v":-16},{"$f":"MAX($L$2:L21)","v":8},-2]
[null,null,null,null,null,null,null,21,1286173,1286173,false,-2,{"$f":"SUM($O$2:O22)","v":-18},{"$f":"MAX($L$2:L22)","v":8},-2]
[null,null,null,null,null,null,null,22,1025775,1025775,false,-2,{"$f":"SUM($O$2:O23)","v":-20},{"$f":"MAX($L$2:L23)","v":8},-2]
[null,null,null,null,null,null,null,23,906323,906323,false,-2,{"$f":"SUM($O$2:O24)","v":-22},{"$f":"MAX($L$2:L24)","v":8},-2]
[null,null,null,null,null,null,null,24,1191544,1191544,false,-2,{"$f":"SUM($O$2:O25)","v":-24},{"$f":"MAX($L$2:L25)","v":8},-2]
[null,null,null,null,null,null,null,25,226712,226712,false,2,{"$f":"SUM($O$2:O26)","v":-22},{"$f":"MAX($L$2:L26)","v":8},2]
[null,null,null,null,null,null,null,26,1162903,1162903,false,-2,{"$f":"SUM($O$2:O27)","v":-24},{"$f":"MAX($L$2:L27)","v":8},-2,null,null,null,null,null,null,null,null,null,null,"Ticket avec la valeur la plus haute :",null,null,null,{"$f":"LOOKUP(Y12,H:H,N:N)+2","v":10}]
[null,null,null,null,null,null,null,27,1130804,1130804,false,-2,{"$f":"SUM($O$2:O28)","v":-26},{"$f":"MAX($L$2:L28)","v":8},-2]
[null,null,null,null,null,null,null,28,1486705,1486705,false,-2,{"$f":"SUM($O$2:O29)","v":-28},{"$f":"MAX($L$2:L29)","v":8},-2]
[null,null,null,null,null,null,null,29,250611,250611,false,2,{"$f":"SUM($O$2:O30)","v":-26},{"$f":"MAX($L$2:L30)","v":8},2]
[null,null,null,null,null,null,null,30,555736,555736,false,-2,{"$f":"SUM($O$2:O31)","v":-28},{"$f":"MAX($L$2:L31)","v":8},-2]
[null,null,null,null,null,null,null,31,676007,676007,false,-2,{"$f":"SUM($O$2:O32)","v":-30},{"$f":"MAX($L$2:L32)","v":8},-2]
[null,null,null,null,null,null,null,32,1471521,1471521,false,-2,{"$f":"SUM($O$2:O33)","v":-32},{"$f":"MAX($L$2:L33)","v":8},-2]
[null,null,null,null,null,null,null,33,1174347,1174347,false,-2,{"$f":"SUM($O$2:O34)","v":-34},{"$f":"MAX($L$2:L34)","v":8},-2]
[null,null,null,null,null,null,null,34,845173,845173,false,-2,{"$f":"SUM($O$2:O35)","v":-36},{"$f":"MAX($L$2:L35)","v":8},-2]
[null,null,null,null,null,null,null,35,1345375,1345375,false,-2,{"$f":"SUM($O$2:O36)","v":-38},{"$f":"MAX($L$2:L36)","v":8},-2]
[null,null,null,null,null,null,null,36,738992,738992,false,-2,{"$f":"SUM($O$2:O37)","v":-40},{"$f":"MAX($L$2:L37)","v":8},-2]
[null,null,null,null,null,null,null,37,717729,717729,false,-2,{"$f":"SUM($O$2:O38)","v":-42},{"$f":"MAX($L$2:L38)","v":8},-2]
[null,null,null,null,null,null,null,38,521336,521336,false,-2,{"$f":"SUM($O$2:O39)","v":-44},{"$f":"MAX($L$2:L39)","v":8},-2]
[null,null,null,null,null,null,null,39,433596,433596,false,-2,{"$f":"SUM($O$2:O40)","v":-46},{"$f":"MAX($L$2:L40)","v":8},-2]
[null,null,null,null,null,null,null,40,208775,208775,false,2,{"$f":"SUM($O$2:O41)","v":-44},{"$f":"MAX($L$2:L41)","v":8},2]
[null,null,null,null,null,null,null,41,133406,133406,false,2,{"$f":"SUM($O$2:O42)","v":-42},{"$f":"MAX($L$2:L42)","v":8},2]
[null,null,null,null,null,null,null,42,114294,114294,false,2,{"$f":"SUM($O$2:O43)","v":-40},{"$f":"MAX($L$2:L43)","v":8},2]
[null,null,null,null,null,null,null,43,378134,378134,false,-2,{"$f":"SUM($O$2:O44)","v":-42},{"$f":"MAX($L$2:L44)","v":8},-2]
[null,null,null,null,null,null,null,44,42865,42865,false,8,{"$f":"SUM($O$2:O45)","v":-34},{"$f":"MAX($L$2:L45)","v":8},8]
[null,null,null,null,null,null,null,45,621156,621156,false,-2,{"$f":"SUM($O$2:O46)","v":-36},{"$f":"MAX($L$2:L46)","v":8},-2]
[null,null,null,null,null,null,null,46,1324396,1324396,false,-2,{"$f":"SUM($O$2:O47)","v":-38},{"$f":"MAX($L$2:L47)","v":8},-2]
[null,null,null,null,null,null,null,47,853118,853118,false,-2,{"$f":"SUM($O$2:O48)","v":-40},{"$f":"MAX($L$2:L48)","v":8},-2]
[null,null,null,null,null,null,null,48,495319,495319,false,-2,{"$f":"SUM($O$2:O49)","v":-42},{"$f":"MAX($L$2:L49)","v":8},-2]
[null,null,null,null,null,null,null,49,730926,730926,false,-2,{"$f":"SUM($O$2:O50)","v":-44},{"$f":"MAX($L$2:L50)","v":8},-2]
[null,null,null,null,null,null,null,50,464765,464765,false,-2,{"$f":"SUM($O$2:O51)","v":-46},{"$f":"MAX($L$2:L51)","v":8},-2]
[null,null,null,null,null,null,null,51,1212367,1212367,false,-2,{"$f":"SUM($O$2:O52)","v":-48},{"$f":"MAX($L$2:L52)","v":8},-2]
[null,null,null,null,null,null,null,52,403727,403727,false,-2,{"$f":"SUM($O$2:O53)","v":-50},{"$f":"MAX($L$2:L53)","v":8},-2]
[null,null,null,null,null,null,null,53,625635,625635,false,-2,{"$f":"SUM($O$2:O54)","v":-52},{"$f":"MAX($L$2:L54)","v":8},-2]
[null,null,null,null,null,null,null,54,694149,694149,false,-2,{"$f":"SUM($O$2:O55)","v":-54},{"$f":"MAX($L$2:L55)","v":8},-2]
[null,null,null,null,null,null,null,55,72385,72385,false,2,{"$f":"SUM($O$2:O56)","v":-52},{"$f":"MAX($L$2:L56)","v":8},2]
[null,null,null,null,null,null,null,56,443242,443242,false,-2,{"$f":"SUM($O$2:O57)","v":-54},{"$f":"MAX($L$2:L57)","v":8},-2]
[null,null,null,null,null,null,null,57,358771,358771,false,0,{"$f":"SUM($O$2:O58)","v":-54},{"$f":"MAX($L$2:L58)","v":8},0]
[null,null,null,null,null,null,null,58,665419,665419,false,-2,{"$f":"SUM($O$2:O59)","v":-56},{"$f":"MAX($L$2:L59)","v":8},-2]
[null,null,null,null,null,null,null,59,927837,927837,false,-2,{"$f":"SUM($O$2:O60)","v":-58},{"$f":"MAX($L$2:L60)","v":8},-2]
[null,null,null,null,null,null,null,60,802323,802323,false,-2,{"$f":"SUM($O$2:O61)","v":-60},{"$f":"MAX($L$2:L61)","v":8},-2]
[null,null,null,null,null,null,null,61,769078,769078,false,-2,{"$f":"SUM($O$2:O62)","v":-62},{"$f":"MAX($L$2:L62)","v":8},-2]
[null,null,null,null,null,null,null,62,1114924,1114924,false,-2,{"$f":"SUM($O$2:O63)","v":-64},{"$f":"MAX($L$2:L63)","v":8},-2]
[null,null,null,null,null,null,null,63,646647,646647,false,-2,{"$f":"SUM($O$2:O64)","v":-66},{"$f":"MAX($L$2:L64)","v":8},-2]
[null,null,null,null,null,null,null,64,505380,505380,false,-2,{"$f":"SUM($O$2:O65)","v":-68},{"$f":"MAX($L$2:L65)","v":8},-2]
[null,null,null,null,null,null,null,65,1259587,1259587,false,-2,{"$f":"SUM($O$2:O66)","v":-70},{"$f":"MAX($L$2:L66)","v":8},-2]
[null,null,null,null,null,null,null,66,{"$f":"ROUND(RAND()*(1500000-1),0)","v":471529},471529,{"$f":"IF(I67<=$E$10,C75)","v":false},{"$f":"IF(I67>=$F$2,$C$2,(IF(I67>=$F$3,$C$3,IF(I67>=$F$4,$C$4,IF(I67>=$F$5,$C$5,IF(I67>=$F$6,$C$6,IF(I67>=$F$7,$C$7,IF(I67>=$F$8,$C$8,IF(I67>=$F$9,$C$9,IF(I67>=0,999))))))))))","v":-2},{"$f":"SUM($O$2:O67)","v":-72},{"$f":"MAX($L$2:L67)","v":8},{"$f":"IF(K67=FALSE,L67,C75)","v":-2}]
[null,null,null,null,null,null,null,67,1431065,1431065,false,-2,{"$f":"SUM($O$2:O68)","v":-74},{"$f":"MAX($L$2:L68)","v":8},-2]
[null,null,null,null,null,null,null,68,447803,{"$f":"IF($J$1<2,I69)","v":447803},false,-2,{"$f":"SUM($O$2:O69)","v":-76},{"$f":"MAX($L$2:L69)","v":8},-2]
[null,null,null,null,null,null,null,69,998653,998653,false,-2,{"$f":"SUM($O$2:O70)","v":-78},{"$f":"MAX($L$2:L70)","v":8},-2]
[null,null,null,null,null,null,null,70,635096,635096,false,-2,{"$f":"SUM($O$2:O71)","v":-80},{"$f":"MAX($L$2:L71)","v":8},-2]
[null,null,null,null,null,null,null,71,552619,552619,false,-2,{"$f":"SUM($O$2:O72)","v":-82},{"$f":"MAX($L$2:L72)","v":8},-2]
[null,null,null,null,null,null,null,72,378829,378829,false,-2,{"$f":"SUM($O$2:O73)","v":-84},{"$f":"MAX($L$2:L73)","v":8},-2]
[null,null,null,null,null,null,null,73,374926,374926,false,-2,{"$f":"SUM($O$2:O74)","v":-86},{"$f":"MAX($L$2:L74)","v":8},-2]
[null,null,null,null,null,null,null,74,829090,829090,false,-2,{"$f":"SUM($O$2:O75)","v":-88},{"$f":"MAX($L$2:L75)","v":8},-2]
[null,null,null,null,null,null,null,75,807296,807296,false,-2,{"$f":"SUM($O$2:O76)","v":-90},{"$f":"MAX($L$2:L76)","v":8},-2]
[null,null,null,null,null,null,null,76,722509,722509,false,-2,{"$f":"SUM($O$2:O77)","v":-92},{"$f":"MAX($L$2:L77)","v":8},-2]
[null,null,null,null,null,null,null,77,474040,474040,false,-2,{"$f":"SUM($O$2:O78)","v":-94},{"$f":"MAX($L$2:L78)","v":8},-2]
[null,null,null,null,null,null,null,78,805328,805328,false,-2,{"$f":"SUM($O$2:O79)","v":-96},{"$f":"MAX($L$2:L79)","v":8},-2]
[null,null,null,null,null,null,null,79,106969,106969,false,2,{"$f":"SUM($O$2:O80)","v":-94},{"$f":"MAX($L$2:L80)","v":8},2]
[null,null,null,null,null,null,null,80,418218,418218,false,-2,{"$f":"SUM($O$2:O81)","v":-96},{"$f":"MAX($L$2:L81)","v":8},-2]
[null,null,null,null,null,null,null,81,900321,900321,false,-2,{"$f":"SUM($O$2:O82)","v":-98},{"$f":"MAX($L$2:L82)","v":8},-2]
[null,null,null,null,null,null,null,82,526704,526704,false,-2,{"$f":"SUM($O$2:O83)","v":-100},{"$f":"MAX($L$2:L83)","v":8},-2]
[null,null,null,null,null,null,null,83,413262,413262,false,-2,{"$f":"SUM($O$2:O84)","v":-102},{"$f":"MAX($L$2:L84)","v":8},-2]
[null,null,null,null,null,null,null,84,913517,913517,false,-2,{"$f":"SUM($O$2:O85)","v":-104},{"$f":"MAX($L$2:L85)","v":8},-2]
[null,null,null,null,null,null,null,85,330359,330359,false,0,{"$f":"SUM($O$2:O86)","v":-104},{"$f":"MAX($L$2:L86)","v":8},0]
[null,null,null,null,null,null,null,86,1375074,1375074,false,-2,{"$f":"SUM($O$2:O87)","v":-106},{"$f":"MAX($L$2:L87)","v":8},-2]
[null,null,null,null,null,null,null,87,1438729,1438729,false,-2,{"$f":"SUM($O$2:O88)","v":-108},{"$f":"MAX($L$2:L88)","v":8},-2]
[null,null,null,null,null,null,null,88,746896,746896,false,-2,{"$f":"SUM($O$2:O89)","v":-110},{"$f":"MAX($L$2:L89)","v":8},-2]
[null,null,null,null,null,null,null,89,64527,64527,false,8,{"$f":"SUM($O$2:O90)","v":-102},{"$f":"MAX($L$2:L90)","v":8},8]
[null,null,null,null,null,null,null,90,817330,817330,false,-2,{"$f":"SUM($O$2:O91)","v":-104},{"$f":"MAX($L$2:L91)","v":8},-2]
[null,null,null,null,null,null,null,91,1440871,1440871,false,-2,{"$f":"SUM($O$2:O92)","v":-106},{"$f":"MAX($L$2:L92)","v":8},-2]
[null,null,null,null,null,null,null,92,1196957,1196957,false,-2,{"$f":"SUM($O$2:O93)","v":-108},{"$f":"MAX($L$2:L93)","v":8},-2]
[null,null,null,null,null,null,null,93,1177715,1177715,false,-2,{"$f":"SUM($O$2:O94)","v":-110},{"$f":"MAX($L$2:L94)","v":8},-2]
[null,null,null,null,null,null,null,94,398087,398087,false,-2,{"$f":"SUM($O$2:O95)","v":-112},{"$f":"MAX($L$2:L95)","v":8},-2]
[null,null,null,null,null,null,null,95,744536,744536,false,-2,{"$f":"SUM($O$2:O96)","v":-114},{"$f":"MAX($L$2:L96)","v":8},-2]
[null,null,null,null,null,null,null,96,422566,422566,false,-2,{"$f":"SUM($O$2:O97)","v":-116},{"$f":"MAX($L$2:L97)","v":8},-2]
[null,null,null,null,null,null,null,97,882374,882374,false,-2,{"$f":"SUM($O$2:O98)","v":-118},{"$f":"MAX($L$2:L98)","v":8},-2]
[null,null,null,null,null,null,null,98,1193692,1193692,false,-2,{"$f":"SUM($O$2:O99)","v":-120},{"$f":"MAX($L$2:L99)","v":8},-2]
[null,null,null,null,null,null,null,99,629543,629543,false,-2,{"$f":"SUM($O$2:O100)","v":-122},{"$f":"MAX($L$2:L100)","v":8},-2]
[null,null,null,null,null,null,null,100,1049928,1049928,false,-2,{"$f":"SUM($O$2:O101)","v":-124},{"$f":"MAX($L$2:L101)","v":8},-2]
[null,null,null,null,null,null,null,101,69699,69699,false,2,{"$f":"SUM($O$2:O102)","v":-122},{"$f":"MAX($L$2:L102)","v":8},2]
[null,null,null,null,null,null,null,102,634613,634613,false,-2,{"$f":"SUM($O$2:O103)","v":-124},{"$f":"MAX($L$2:L103)","v":8},-2]
[null,null,null,null,null,null,null,103,594566,594566,false,-2,{"$f":"SUM($O$2:O104)","v":-126},{"$f":"MAX($L$2:L104)","v":8},-2]
[null,null,null,null,null,null,null,104,1011508,1011508,false,-2,{"$f":"SUM($O$2:O105)","v":-128},{"$f":"MAX($L$2:L105)","v":8},-2]
[null,null,null,null,null,null,null,105,423801,423801,false,-2,{"$f":"SUM($O$2:O106)","v":-130},{"$f":"MAX($L$2:L106)","v":8},-2]
[null,null,null,null,null,null,null,106,1203277,1203277,false,-2,{"$f":"SUM($O$2:O107)","v":-132},{"$f":"MAX($L$2:L107)","v":8},-2]
[null,null,null,null,null,null,null,107,1349768,1349768,false,-2,{"$f":"SUM($O$2:O108)","v":-134},{"$f":"MAX($L$2:L108)","v":8},-2]
[null,null,null,null,null,null,null,108,1022943,1022943,false,-2,{"$f":"SUM($O$2:O109)","v":-136},{"$f":"MAX($L$2:L109)","v":8},-2]
[null,null,null,null,null,null,null,109,827311,827311,false,-2,{"$f":"SUM($O$2:O110)","v":-138},{"$f":"MAX($L$2:L110)","v":8},-2]
[null,null,null,null,null,null,null,110,372928,372928,false,-2,{"$f":"SUM($O$2:O111)","v":-140},{"$f":"MAX($L$2:L111)","v":8},-2]
[null,null,null,null,null,null,null,111,1443474,1443474,false,-2,{"$f":"SUM($O$2:O112)","v":-142},{"$f":"MAX($L$2:L112)","v":8},-2]
[null,null,null,null,null,null,null,112,734213,734213,false,-2,{"$f":"SUM($O$2:O113)","v":-144},{"$f":"MAX($L$2:L113)","v":8},-2]
[null,null,null,null,null,null,null,113,892445,892445,false,-2,{"$f":"SUM($O$2:O114)","v":-146},{"$f":"MAX($L$2:L114)","v":8},-2]
[null,null,null,null,null,null,null,114,207075,207075,false,2,{"$f":"SUM($O$2:O115)","v":-144},{"$f":"MAX($L$2:L115)","v":8},2]
[null,null,null,null,null,null,null,115,770104,770104,false,-2,{"$f":"SUM($O$2:O116)","v":-146},{"$f":"MAX($L$2:L116)","v":8},-2]
[null,null,null,null,null,null,null,116,1248153,1248153,false,-2,{"$f":"SUM($O$2:O117)","v":-148},{"$f":"MAX($L$2:L117)","v":8},-2]
[null,null,null,null,null,null,null,117,850644,850644,false,-2,{"$f":"SUM($O$2:O118)","v":-150},{"$f":"MAX($L$2:L118)","v":8},-2]
[null,null,null,null,null,null,null,118,1342197,1342197,false,-2,{"$f":"SUM($O$2:O119)","v":-152},{"$f":"MAX($L$2:L119)","v":8},-2]
[null,null,null,null,null,null,null,119,1393359,1393359,false,-2,{"$f":"SUM($O$2:O120)","v":-154},{"$f":"MAX($L$2:L120)","v":8},-2]
[null,null,null,null,null,null,null,120,1353801,1353801,false,-2,{"$f":"SUM($O$2:O121)","v":-156},{"$f":"MAX($L$2:L121)","v":8},-2]
[null,null,null,null,null,null,null,121,1206164,1206164,false,-2,{"$f":"SUM($O$2:O122)","v":-158},{"$f":"MAX($L$2:L122)","v":8},-2]
[null,null,null,null,null,null,null,122,1419482,1419482,false,-2,{"$f":"SUM($O$2:O123)","v":-160},{"$f":"MAX($L$2:L123)","v":8},-2]
[null,null,null,null,null,null,null,123,810287,810287,false,-2,{"$f":"SUM($O$2:O124)","v":-162},{"$f":"MAX($L$2:L124)","v":8},-2]
[null,null,null,null,null,null,null,124,409226,409226,false,-2,{"$f":"SUM($O$2:O125)","v":-164},{"$f":"MAX($L$2:L125)","v":8},-2]
[null,null,null,null,null,null,null,125,1248288,1248288,false,-2,{"$f":"SUM($O$2:O126)","v":-166},{"$f":"MAX($L$2:L126)","v":8},-2]
[null,null,null,null,null,null,null,126,1295671,1295671,false,-2,{"$f":"SUM($O$2:O127)","v":-168},{"$f":"MAX($L$2:L127)","v":8},-2]
[null,null,null,null,null,null,null,127,556555,556555,false,-2,{"$f":"SUM($O$2:O128)","v":-170},{"$f":"MAX($L$2:L128)","v":8},-2]
[null,null,null,null,null,null,null,128,815166,815166,false,-2,{"$f":"SUM($O$2:O129)","v":-172},{"$f":"MAX($L$2:L129)","v":8},-2]
[null,null,null,null,null,null,null,129,1185345,1185345,false,-2,{"$f":"SUM($O$2:O130)","v":-174},{"$f":"MAX($L$2:L130)","v":8},-2]
[null,null,null,null,null,null,null,130,{"$f":"ROUND(RAND()*(1500000-1),0)","v":1281294},1281294,{"$f":"IF(I131<=$E$10,C139)","v":false},{"$f":"IF(I131>=$F$2,$C$2,(IF(I131>=$F$3,$C$3,IF(I131>=$F$4,$C$4,IF(I131>=$F$5,$C$5,IF(I131>=$F$6,$C$6,IF(I131>=$F$7,$C$7,IF(I131>=$F$8,$C$8,IF(I131>=$F$9,$C$9,IF(I131>=0,999))))))))))","v":-2},{"$f":"SUM($O$2:O131)","v":-176},{"$f":"MAX($L$2:L131)","v":8},{"$f":"IF(K131=FALSE,L131,C139)","v":-2}]
[null,null,null,null,null,null,null,131,448802,448802,false,-2,{"$f":"SUM($O$2:O132)","v":-178},{"$f":"MAX($L$2:L132)","v":8},-2]
[null,null,null,null,null,null,null,132,501150,{"$f":"IF($J$1<2,I133)","v":501150},false,-2,{"$f":"SUM($O$2:O133)","v":-180},{"$f":"MAX($L$2:L133)","v":8},-2]
[null,null,null,null,null,null,null,133,1064794,1064794,false,-2,{"$f":"SUM($O$2:O134)","v":-182},{"$f":"MAX($L$2:L134)","v":8},-2]
[null,null,null,null,null,null,null,134,757553,757553,false,-2,{"$f":"SUM($O$2:O135)","v":-184},{"$f":"MAX($L$2:L135)","v":8},-2]
[null,null,null,null,null,null,null,135,141156,141156,false,2,{"$f":"SUM($O$2:O136)","v":-182},{"$f":"MAX($L$2:L136)","v":8},2]
[null,null,null,null,null,null,null,136,1463949,1463949,false,-2,{"$f":"SUM($O$2:O137)","v":-184},{"$f":"MAX($L$2:L137)","v":8},-2]
[null,null,null,null,null,null,null,137,1169942,1169942,false,-2,{"$f":"SUM($O$2:O138)","v":-186},{"$f":"MAX($L$2:L138)","v":8},-2]
[null,null,null,null,null,null,null,138,210015,210015,false,2,{"$f":"SUM($O$2:O139)","v":-184},{"$f":"MAX($L$2:L139)","v":8},2]
[null,null,null,null,null,null,null,139,847688,847688,false,-2,{"$f":"SUM($O$2:O140)","v":-186},{"$f":"MAX($L$2:L140)","v":8},-2]
[null,null,null,null,null,null,null,140,645539,645539,false,-2,{"$f":"SUM($O$2:O141)","v":-188},{"$f":"MAX($L$2:L141)","v":8},-2]
[null,null,null,null,null,null,null,141,191272,191272,false,2,{"$f":"SUM($O$2:O142)","v":-186},{"$f":"MAX($L$2:L142)","v":8},2]
[null,null,null,null,null,null,null,142,837651,837651,false,-2,{"$f":"SUM($O$2:O143)","v":-188},{"$f":"MAX($L$2:L143)","v":8},-2]
[null,null,null,null,null,null,null,143,984080,984080,false,-2,{"$f":"SUM($O$2:O144)","v":-190},{"$f":"MAX($L$2:L144)","v":8},-2]
[null,null,null,null,null,null,null,144,59715,59715,false,8,{"$f":"SUM($O$2:O145)","v":-182},{"$f":"MAX($L$2:L145)","v":8},8]
[null,null,null,null,null,null,null,145,1320545,1320545,false,-2,{"$f":"SUM($O$2:O146)","v":-184},{"$f":"MAX($L$2:L146)","v":8},-2]
[null,null,null,null,null,null,null,146,376152,376152,false,-2,{"$f":"SUM($O$2:O147)","v":-186},{"$f":"MAX($L$2:L147)","v":8},-2]
[null,null,null,null,null,null,null,147,1159937,1159937,false,-2,{"$f":"SUM($O$2:O148)","v":-188},{"$f":"MAX($L$2:L148)","v":8},-2]
[null,null,null,null,null,null,null,148,47831,47831,false,8,{"$f":"SUM($O$2:O149)","v":-180},{"$f":"MAX($L$2:L149)","v":8},8]
[null,null,null,null,null,null,null,149,1427466,1427466,false,-2,{"$f":"SUM($O$2:O150)","v":-182},{"$f":"MAX($L$2:L150)","v":8},-2]
[null,null,null,null,null,null,null,150,989805,989805,false,-2,{"$f":"SUM($O$2:O151)","v":-184},{"$f":"MAX($L$2:L151)","v":8},-2]
[null,null,null,null,null,null,null,151,130485,130485,false,2,{"$f":"SUM($O$2:O152)","v":-182},{"$f":"MAX($L$2:L152)","v":8},2]
[null,null,null,null,null,null,null,152,760384,760384,false,-2,{"$f":"SUM($O$2:O153)","v":-184},{"$f":"MAX($L$2:L153)","v":8},-2]
[null,null,null,null,null,null,null,153,1426960,1426960,false,-2,{"$f":"SUM($O$2:O154)","v":-186},{"$f":"MAX($L$2:L154)","v":8},-2]
[null,null,null,null,null,null,null,154,972620,972620,false,-2,{"$f":"SUM($O$2:O155)","v":-188},{"$f":"MAX($L$2:L155)","v":8},-2]
[null,null,null,null,null,null,null,155,456191,456191,false,-2,{"$f":"SUM($O$2:O156)","v":-190},{"$f":"MAX($L$2:L156)","v":8},-2]
[null,null,null,null,null,null,null,156,921482,921482,false,-2,{"$f":"SUM($O$2:O157)","v":-192},{"$f":"MAX($L$2:L157)","v":8},-2]
[null,null,null,null,null,null,null,157,950021,950021,false,-2,{"$f":"SUM($O$2:O158)","v":-194},{"$f":"MAX($L$2:L158)","v":8},-2]
[null,null,null,null,null,null,null,158,515374,515374,false,-2,{"$f":"SUM($O$2:O159)","v":-196},{"$f":"MAX($L$2:L159)","v":8},-2]
[null,null,null,null,null,null,null,159,1306876,1306876,false,-2,{"$f":"SUM($O$2:O160)","v":-198},{"$f":"MAX($L$2:L160)","v":8},-2]
[null,null,null,null,null,null,null,160,919973,919973,false,-2,{"$f":"SUM($O$2:O161)","v":-200},{"$f":"MAX($L$2:L161)","v":8},-2]
[null,null,null,null,null,null,null,161,1138597,1138597,false,-2,{"$f":"SUM($O$2:O162)","v":-202},{"$f":"MAX($L$2:L162)","v":8},-2]
[null,null,null,null,null,null,null,162,785956,785956,false,-2,{"$f":"SUM($O$2:O163)","v":-204},{"$f":"MAX($L$2:L163)","v":8},-2]
[null,null,null,null,null,null,null,163,723112,723112,false,-2,{"$f":"SUM($O$2:O164)","v":-206},{"$f":"MAX($L$2:L164)","v":8},-2]
[null,null,null,null,null,null,null,164,1376519,1376519,false,-2,{"$f":"SUM($O$2:O165)","v":-208},{"$f":"MAX($L$2:L165)","v":8},-2]
[null,null,null,null,null,null,null,165,118506,118506,false,2,{"$f":"SUM($O$2:O166)","v":-206},{"$f":"MAX($L$2:L166)","v":8},2]
[null,null,null,null,null,null,null,166,963365,963365,false,-2,{"$f":"SUM($O$2:O167)","v":-208},{"$f":"MAX($L$2:L167)","v":8},-2]
[null,null,null,null,null,null,null,167,815327,815327,false,-2,{"$f":"SUM($O$2:O168)","v":-210},{"$f":"MAX($L$2:L168)","v":8},-2]
[null,null,null,null,null,null,null,168,489552,489552,false,-2,{"$f":"SUM($O$2:O169)","v":-212},{"$f":"MAX($L$2:L169)","v":8},-2]
[null,null,null,null,null,null,null,169,1458760,1458760,false,-2,{"$f":"SUM($O$2:O170)","v":-214},{"$f":"MAX($L$2:L170)","v":8},-2]
[null,null,null,null,null,null,null,170,1438350,1438350,false,-2,{"$f":"SUM($O$2:O171)","v":-216},{"$f":"MAX($L$2:L171)","v":8},-2]
[null,null,null,null,null,null,null,171,952048,952048,false,-2,{"$f":"SUM($O$2:O172)","v":-218},{"$f":"MAX($L$2:L172)","v":8},-2]
[null,null,null,null,null,null,null,172,93516,93516,false,2,{"$f":"SUM($O$2:O173)","v":-216},{"$f":"MAX($L$2:L173)","v":8},2]
[null,null,null,null,null,null,null,173,1331930,1331930,false,-2,{"$f":"SUM($O$2:O174)","v":-218},{"$f":"MAX($L$2:L174)","v":8},-2]
[null,null,null,null,null,null,null,174,65131,65131,false,2,{"$f":"SUM($O$2:O175)","v":-216},{"$f":"MAX($L$2:L175)","v":8},2]
[null,null,null,null,null,null,null,175,1181979,1181979,false,-2,{"$f":"SUM($O$2:O176)","v":-218},{"$f":"MAX($L$2:L176)","v":8},-2]
[null,null,null,null,null,null,null,176,1129862,1129862,false,-2,{"$f":"SUM($O$2:O177)","v":-220},{"$f":"MAX($L$2:L177)","v":8},-2]
[null,null,null,null,null,null,null,177,356150,356150,false,0,{"$f":"SUM($O$2:O178)","v":-220},{"$f":"MAX($L$2:L178)","v":8},0]
[null,null,null,null,null,null,null,178,361153,361153,false,0,{"$f":"SUM($O$2:O179)","v":-220},{"$f":"MAX($L$2:L179)","v":8},0]
[null,null,null,null,null,null,null,179,366061,366061,false,-2,{"$f":"SUM($O$2:O180)","v":-222},{"$f":"MAX($L$2:L180)","v":8},-2]
[null,null,null,null,null,null,null,180,731378,731378,false,-2,{"$f":"SUM($O$2:O181)","v":-224},{"$f":"MAX($L$2:L181)","v":8},-2]
[null,null,null,null,null,null,null,181,838121,838121,false,-2,{"$f":"SUM($O$2:O182)","v":-226},{"$f":"MAX($L$2:L182)","v":8},-2]
[null,null,null,null,null,null,null,182,831058,831058,false,-2,{"$f":"SUM($O$2:O183)","v":-228},{"$f":"MAX($L$2:L183)","v":8},-2]
[null,null,null,null,null,null,null,183,161967,161967,false,2,{"$f":"SUM($O$2:O184)","v":-226},{"$f":"MAX($L$2:L184)","v":8},2]
[null,null,null,null,null,null,null,184,114684,114684,false,2,{"$f":"SUM($O$2:O185)","v":-224},{"$f":"MAX($L$2:L185)","v":8},2]
[null,null,null,null,null,null,null,185,1273274,1273274,false,-2,{"$f":"SUM($O$2:O186)","v":-226},{"$f":"MAX($L$2:L186)","v":8},-2]
[null,null,null,null,null,null,null,186,1018458,1018458,false,-2,{"$f":"SUM($O$2:O187)","v":-228},{"$f":"MAX($L$2:L187)","v":8},-2]
[null,null,null,null,null,null,null,187,173321,173321,false,2,{"$f":"SUM($O$2:O188)","v":-226},{"$f":"MAX($L$2:L188)","v":8},2]
[null,null,null,null,null,null,null,188,801481,801481,false,-2,{"$f":"SUM($O$2:O189)","v":-228},{"$f":"MAX($L$2:L189)","v":8},-2]
[null,null,null,null,null,null,null,189,322227,322227,false,0,{"$f":"SUM($O$2:O190)","v":-228},{"$f":"MAX($L$2:L190)","v":8},0]
[null,null,null,null,null,null,null,190,938119,938119,false,-2,{"$f":"SUM($O$2:O191)","v":-230},{"$f":"MAX($L$2:L191)","v":8},-2]
[null,null,null,null,null,null,null,191,954704,954704,false,-2,{"$f":"SUM($O$2:O192)","v":-232},{"$f":"MAX($L$2:L192)","v":8},-2]
[null,null,null,null,null,null,null,192,286399,286399,false,0,{"$f":"SUM($O$2:O193)","v":-232},{"$f":"MAX($L$2:L193)","v":8},0]
[null,null,null,null,null,null,null,193,202755,202755,false,2,{"$f":"SUM($O$2:O194)","v":-230},{"$f":"MAX($L$2:L194)","v":8},2]
[null,null,null,null,null,null,null,194,{"$f":"ROUND(RAND()*(1500000-1),0)","v":893126},893126,{"$f":"IF(I195<=$E$10,C203)","v":false},{"$f":"IF(I195>=$F$2,$C$2,(IF(I195>=$F$3,$C$3,IF(I195>=$F$4,$C$4,IF(I195>=$F$5,$C$5,IF(I195>=$F$6,$C$6,IF(I195>=$F$7,$C$7,IF(I195>=$F$8,$C$8,IF(I195>=$F$9,$C$9,IF(I195>=0,999))))))))))","v":-2},{"$f":"SUM($O$2:O195)","v":-232},{"$f":"MAX($L$2:L195)","v":8},{"$f":"IF(K195=FALSE,L195,C203)","v":-2}]
[null,null,null,null,null,null,null,195,92322,92322,false,2,{"$f":"SUM($O$2:O196)","v":-230},{"$f":"MAX($L$2:L196)","v":8},2]
[null,null,null,null,null,null,null,196,54466,{"$f":"IF($J$1<2,I197)","v":54466},false,8,{"$f":"SUM($O$2:O197)","v":-222},{"$f":"MAX($L$2:L197)","v":8},8]
[null,null,null,null,null,null,null,197,709337,709337,false,-2,{"$f":"SUM($O$2:O198)","v":-224},{"$f":"MAX($L$2:L198)","v":8},-2]
[null,null,null,null,null,null,null,198,1401382,1401382,false,-2,{"$f":"SUM($O$2:O199)","v":-226},{"$f":"MAX($L$2:L199)","v":8},-2]
[null,null,null,null,null,null,null,199,1371125,1371125,false,-2,{"$f":"SUM($O$2:O200)","v":-228},{"$f":"MAX($L$2:L200)","v":8},-2]
[null,null,null,null,null,null,null,200,6048,6048,false,18,{"$f":"SUM($O$2:O201)","v":-210},{"$f":"MAX($L$2:L201)","v":18},18]
[null,null,null,null,null,null,null,201,957537,957537,false,-2,{"$f":"SUM($O$2:O202)","v":-212},{"$f":"MAX($L$2:L202)","v":18},-2]
[null,null,null,null,null,null,null,202,1021208,1021208,false,-2,{"$f":"SUM($O$2:O203)","v":-214},{"$f":"MAX($L$2:L203)","v":18},-2]
[null,null,null,null,null,null,null,203,1001327,1001327,false,-2,{"$f":"SUM($O$2:O204)","v":-216},{"$f":"MAX($L$2:L204)","v":18},-2]
[null,null,null,null,null,null,null,204,1169229,1169229,false,-2,{"$f":"SUM($O$2:O205)","v":-218},{"$f":"MAX($L$2:L205)","v":18},-2]
[null,null,null,null,null,null,null,205,1137628,1137628,false,-2,{"$f":"SUM($O$2:O206)","v":-220},{"$f":"MAX($L$2:L206)","v":18},-2]
[null,null,null,null,null,null,null,206,453206,453206,false,-2,{"$f":"SUM($O$2:O207)","v":-222},{"$f":"MAX($L$2:L207)","v":18},-2]
[null,null,null,null,null,null,null,207,1311528,1311528,false,-2,{"$f":"SUM($O$2:O208)","v":-224},{"$f":"MAX($L$2:L208)","v":18},-2]
[null,null,null,null,null,null,null,208,225829,225829,false,2,{"$f":"SUM($O$2:O209)","v":-222},{"$f":"MAX($L$2:L209)","v":18},2]
[null,null,null,null,null,null,null,209,135873,135873,false,2,{"$f":"SUM($O$2:O210)","v":-220},{"$f":"MAX($L$2:L210)","v":18},2]
[null,null,null,null,null,null,null,210,1473546,1473546,false,-2,{"$f":"SUM($O$2:O211)","v":-222},{"$f":"MAX($L$2:L211)","v":18},-2]
[null,null,null,null,null,null,null,211,721523,721523,false,-2,{"$f":"SUM($O$2:O212)","v":-224},{"$f":"MAX($L$2:L212)","v":18},-2]
[null,null,null,null,null,null,null,212,995273,995273,false,-2,{"$f":"SUM($O$2:O213)","v":-226},{"$f":"MAX($L$2:L213)","v":18},-2]
[null,null,null,null,null,null,null,213,359480,359480,false,0,{"$f":"SUM($O$2:O214)","v":-226},{"$f":"MAX($L$2:L214)","v":18},0]
[null,null,null,null,null,null,null,214,608003,608003,false,-2,{"$f":"SUM($O$2:O215)","v":-228},{"$f":"MAX($L$2:L215)","v":18},-2]
[null,null,null,null,null,null,null,215,699137,699137,false,-2,{"$f":"SUM($O$2:O216)","v":-230},{"$f":"MAX($L$2:L216)","v":18},-2]
[null,null,null,null,null,null,null,216,643238,643238,false,-2,{"$f":"SUM($O$2:O217)","v":-232},{"$f":"MAX($L$2:L217)","v":18},-2]
[null,null,null,null,null,null,null,217,1336058,1336058,false,-2,{"$f":"SUM($O$2:O218)","v":-234},{"$f":"MAX($L$2:L218)","v":18},-2]
[null,null,null,null,null,null,null,218,1410060,1410060,false,-2,{"$f":"SUM($O$2:O219)","v":-236},{"$f":"MAX($L$2:L219)","v":18},-2]
[null,null,null,null,null,null,null,219,1127734,1127734,false,-2,{"$f":"SUM($O$2:O220)","v":-238},{"$f":"MAX($L$2:L220)","v":18},-2]
[null,null,null,null,null,null,null,220,1357430,1357430,false,-2,{"$f":"SUM($O$2:O221)","v":-240},{"$f":"MAX($L$2:L221)","v":18},-2]
[null,null,null,null,null,null,null,221,215389,215389,false,2,{"$f":"SUM($O$2:O222)","v":-238},{"$f":"MAX($L$2:L222)","v":18},2]
[null,null,null,null,null,null,null,222,1120997,1120997,false,-2,{"$f":"SUM($O$2:O223)","v":-240},{"$f":"MAX($L$2:L223)","v":18},-2]
[null,null,null,null,null,null,null,223,216073,216073,false,2,{"$f":"SUM($O$2:O224)","v":-238},{"$f":"MAX($L$2:L224)","v":18},2]
[null,null,null,null,null,null,null,224,445797,445797,false,-2,{"$f":"SUM($O$2:O225)","v":-240},{"$f":"MAX($L$2:L225)","v":18},-2]
[null,null,null,null,null,null,null,225,111546,111546,false,2,{"$f":"SUM($O$2:O226)","v":-238},{"$f":"MAX($L$2:L226)","v":18},2]
[null,null,null,null,null,null,null,226,423783,423783,false,-2,{"$f":"SUM($O$2:O227)","v":-240},{"$f":"MAX($L$2:L227)","v":18},-2]
[null,null,null,null,null,null,null,227,1313650,1313650,false,-2,{"$f":"SUM($O$2:O228)","v":-242},{"$f":"MAX($L$2:L228)","v":18},-2]
[null,null,null,null,null,null,null,228,1155605,1155605,false,-2,{"$f":"SUM($O$2:O229)","v":-244},{"$f":"MAX($L$2:L229)","v":18},-2]
[null,null,null,null,null,null,null,229,613522,613522,false,-2,{"$f":"SUM($O$2:O230)","v":-246},{"$f":"MAX($L$2:L230)","v":18},-2]
[null,null,null,null,null,null,null,230,603999,603999,false,-2,{"$f":"SUM($O$2:O231)","v":-248},{"$f":"MAX($L$2:L231)","v":18},-2]
[null,null,null,null,null,null,null,231,391390,391390,false,-2,{"$f":"SUM($O$2:O232)","v":-250},{"$f":"MAX($L$2:L232)","v":18},-2]
[null,null,null,null,null,null,null,232,677160,677160,false,-2,{"$f":"SUM($O$2:O233)","v":-252},{"$f":"MAX($L$2:L233)","v":18},-2]
[null,null,null,null,null,null,null,233,308123,308123,false,0,{"$f":"SUM($O$2:O234)","v":-252},{"$f":"MAX($L$2:L234)","v":18},0]
[null,null,null,null,null,null,null,234,239100,239100,false,2,{"$f":"SUM($O$2:O235)","v":-250},{"$f":"MAX($L$2:L235)","v":18},2]
[null,null,null,null,null,null,null,235,176152,176152,false,2,{"$f":"SUM($O$2:O236)","v":-248},{"$f":"MAX($L$2:L236)","v":18},2]
[null,null,null,null,null,null,null,236,988062,988062,false,-2,{"$f":"SUM($O$2:O237)","v":-250},{"$f":"MAX($L$2:L237)","v":18},-2]
[null,null,null,null,null,null,null,237,8807,8807,false,18,{"$f":"SUM($O$2:O238)","v":-232},{"$f":"MAX($L$2:L238)","v":18},18]
[null,null,null,null,null,null,null,238,1332107,1332107,false,-2,{"$f":"SUM($O$2:O239)","v":-234},{"$f":"MAX($L$2:L239)","v":18},-2]
[null,null,null,null,null,null,null,239,225867,225867,false,2,{"$f":"SUM($O$2:O240)","v":-232},{"$f":"MAX($L$2:L240)","v":18},2]
[null,null,null,null,null,null,null,240,677809,677809,false,-2,{"$f":"SUM($O$2:O241)","v":-234},{"$f":"MAX($L$2:L241)","v":18},-2]
[null,null,null,null,null,null,null,241,931943,931943,false,-2,{"$f":"SUM($O$2:O242)","v":-236},{"$f":"MAX($L$2:L242)","v":18},-2]
[null,null,null,null,null,null,null,242,1294619,1294619,false,-2,{"$f":"SUM($O$2:O243)","v":-238},{"$f":"MAX($L$2:L243)","v":18},-2]
[null,null,null,null,null,null,null,243,1247979,1247979,false,-2,{"$f":"SUM($O$2:O244)","v":-240},{"$f":"MAX($L$2:L244)","v":18},-2]
[null,null,null,null,null,null,null,244,642301,642301,false,-2,{"$f":"SUM($O$2:O245)","v":-242},{"$f":"MAX($L$2:L245)","v":18},-2]
[null,null,null,null,null,null,null,245,236299,236299,false,2,{"$f":"SUM($O$2:O246)","v":-240},{"$f":"MAX($L$2:L246)","v":18},2]
[null,null,null,null,null,null,null,246,854031,854031,false,-2,{"$f":"SUM($O$2:O247)","v":-242},{"$f":"MAX($L$2:L247)","v":18},-2]
[null,null,null,null,null,null,null,247,260816,260816,false,0,{"$f":"SUM($O$2:O248)","v":-242},{"$f":"MAX($L$2:L248)","v":18},0]
[null,null,null,null,null,null,null,248,1362186,1362186,false,-2,{"$f":"SUM($O$2:O249)","v":-244},{"$f":"MAX($L$2:L249)","v":18},-2]
[null,null,null,null,null,null,null,249,1219358,1219358,false,-2,{"$f":"SUM($O$2:O250)","v":-246},{"$f":"MAX($L$2:L250)","v":18},-2]
[null,null,null,null,null,null,null,250,29599,29599,false,8,{"$f":"SUM($O$2:O251)","v":-238},{"$f":"MAX($L$2:L251)","v":18},8]
[null,null,null,null,null,null,null,251,979247,979247,false,-2,{"$f":"SUM($O$2:O252)","v":-240},{"$f":"MAX($L$2:L252)","v":18},-2]
[null,null,null,null,null,null,null,252,1166528,1166528,false,-2,{"$f":"SUM($O$2:O253)","v":-242},{"$f":"MAX($L$2:L253)","v":18},-2]
[null,null,null,null,null,null,null,253,953346,953346,false,-2,{"$f":"SUM($O$2:O254)","v":-244},{"$f":"MAX($L$2:L254)","v":18},-2]
[null,null,null,null,null,null,null,254,860691,860691,false,-2,{"$f":"SUM($O$2:O255)","v":-246},{"$f":"MAX($L$2:L255)","v":18},-2]
[null,null,null,null,null,null,null,255,1332974,1332974,false,-2,{"$f":"SUM($O$2:O256)","v":-248},{"$f":"MAX($L$2:L256)","v":18},-2]
[null,null,null,null,null,null,null,256,1379745,1379745,false,-2,{"$f":"SUM($O$2:O257)","v":-250},{"$f":"MAX($L$2:L257)","v":18},-2]
[null,null,null,null,null,null,null,257,1344325,1344325,false,-2,{"$f":"SUM($O$2:O258)","v":-252},{"$f":"MAX($L$2:L258)","v":18},-2]
[null,null,null,null,null,null,null,258,{"$f":"ROUND(RAND()*(1500000-1),0)","v":445947},445947,{"$f":"IF(I259<=$E$10,C267)","v":false},{"$f":"IF(I259>=$F$2,$C$2,(IF(I259>=$F$3,$C$3,IF(I259>=$F$4,$C$4,IF(I259>=$F$5,$C$5,IF(I259>=$F$6,$C$6,IF(I259>=$F$7,$C$7,IF(I259>=$F$8,$C$8,IF(I259>=$F$9,$C$9,IF(I259>=0,999))))))))))","v":-2},{"$f":"SUM($O$2:O259)","v":-254},{"$f":"MAX($L$2:L259)","v":18},{"$f":"IF(K259=FALSE,L259,C267)","v":-2}]
[null,null,null,null,null,null,null,259,933278,933278,false,-2,{"$f":"SUM($O$2:O260)","v":-256},{"$f":"MAX($L$2:L260)","v":18},-2]
[null,null,null,null,null,null,null,260,1060008,{"$f":"IF($J$1<2,I261)","v":1060008},false,-2,{"$f":"SUM($O$2:O261)","v":-258},{"$f":"MAX($L$2:L261)","v":18},-2]
[null,null,null,null,null,null,null,261,1364767,1364767,false,-2,{"$f":"SUM($O$2:O262)","v":-260},{"$f":"MAX($L$2:L262)","v":18},-2]
[null,null,null,null,null,null,null,262,471795,471795,false,-2,{"$f":"SUM($O$2:O263)","v":-262},{"$f":"MAX($L$2:L263)","v":18},-2]
[null,null,null,null,null,null,null,263,785692,785692,false,-2,{"$f":"SUM($O$2:O264)","v":-264},{"$f":"MAX($L$2:L264)","v":18},-2]
[null,null,null,null,null,null,null,264,1409702,1409702,false,-2,{"$f":"SUM($O$2:O265)","v":-266},{"$f":"MAX($L$2:L265)","v":18},-2]
[null,null,null,null,null,null,null,265,791559,791559,false,-2,{"$f":"SUM($O$2:O266)","v":-268},{"$f":"MAX($L$2:L266)","v":18},-2]
[null,null,null,null,null,null,null,266,451616,451616,false,-2,{"$f":"SUM($O$2:O267)","v":-270},{"$f":"MAX($L$2:L267)","v":18},-2]
[null,null,null,null,null,null,null,267,1214590,1214590,false,-2,{"$f":"SUM($O$2:O268)","v":-272},{"$f":"MAX($L$2:L268)","v":18},-2]
[null,null,null,null,null,null,null,268,1458141,1458141,false,-2,{"$f":"SUM($O$2:O269)","v":-274},{"$f":"MAX($L$2:L269)","v":18},-2]
[null,null,null,null,null,null,null,269,64549,64549,false,8,{"$f":"SUM($O$2:O270)","v":-266},{"$f":"MAX($L$2:L270)","v":18},8]
[null,null,null,null,null,null,null,270,1236397,1236397,false,-2,{"$f":"SUM($O$2:O271)","v":-268},{"$f":"MAX($L$2:L271)","v":18},-2]
[null,null,null,null,null,null,null,271,186353,186353,false,2,{"$f":"SUM($O$2:O272)","v":-266},{"$f":"MAX($L$2:L272)","v":18},2]
[null,null,null,null,null,null,null,272,854421,854421,false,-2,{"$f":"SUM($O$2:O273)","v":-268},{"$f":"MAX($L$2:L273)","v":18},-2]
[null,null,null,null,null,null,null,273,931575,931575,false,-2,{"$f":"SUM($O$2:O274)","v":-270},{"$f":"MAX($L$2:L274)","v":18},-2]
[null,null,null,null,null,null,null,274,883757,883757,false,-2,{"$f":"SUM($O$2:O275)","v":-272},{"$f":"MAX($L$2:L275)","v":18},-2]
[null,null,null,null,null,null,null,275,354728,354728,false,0,{"$f":"SUM($O$2:O276)","v":-272},{"$f":"MAX($L$2:L276)","v":18},0]
[null,null,null,null,null,null,null,276,1439335,1439335,false,-2,{"$f":"SUM($O$2:O277)","v":-274},{"$f":"MAX($L$2:L277)","v":18},-2]
[null,null,null,null,null,null,null,277,1327880,1327880,false,-2,{"$f":"SUM($O$2:O278)","v":-276},{"$f":"MAX($L$2:L278)","v":18},-2]
[null,null,null,null,null,null,null,278,1068355,1068355,false,-2,{"$f":"SUM($O$2:O279)","v":-278},{"$f":"MAX($L$2:L279)","v":18},-2]
[null,null,null,null,null,null,null,279,884370,884370,false,-2,{"$f":"SUM($O$2:O280)","v":-280},{"$f":"MAX($L$2:L280)","v":18},-2]
[null,null,null,null,null,null,null,280,619001,619001,false,-2,{"$f":"SUM($O$2:O281)","v":-282},{"$f":"MAX($L$2:L281)","v":18},-2]
[null,null,null,null,null,null,null,281,55578,55578,false,8,{"$f":"SUM($O$2:O282)","v":-274},{"$f":"MAX($L$2:L282)","v":18},8]
[null,null,null,null,null,null,null,282,961929,961929,false,-2,{"$f":"SUM($O$2:O283)","v":-276},{"$f":"MAX($L$2:L283)","v":18},-2]
[null,null,null,null,null,null,null,283,178494,178494,false,2,{"$f":"SUM($O$2:O284)","v":-274},{"$f":"MAX($L$2:L284)","v":18},2]
[null,null,null,null,null,null,null,284,1112865,1112865,false,-2,{"$f":"SUM($O$2:O285)","v":-276},{"$f":"MAX($L$2:L285)","v":18},-2]
[null,null,null,null,null,null,null,285,180231,180231,false,2,{"$f":"SUM($O$2:O286)","v":-274},{"$f":"MAX($L$2:L286)","v":18},2]
[null,null,null,null,null,null,null,286,1147899,1147899,false,-2,{"$f":"SUM($O$2:O287)","v":-276},{"$f":"MAX($L$2:L287)","v":18},-2]
[null,null,null,null,null,null,null,287,153637,153637,false,2,{"$f":"SUM($O$2:O288)","v":-274},{"$f":"MAX($L$2:L288)","v":18},2]
[null,null,null,null,null,null,null,288,1010085,1010085,false,-2,{"$f":"SUM($O$2:O289)","v":-276},{"$f":"MAX($L$2:L289)","v":18},-2]
[null,null,null,null,null,null,null,289,65789,65789,false,2,{"$f":"SUM($O$2:O290)","v":-274},{"$f":"MAX($L$2:L290)","v":18},2]
[null,null,null,null,null,null,null,290,382865,382865,false,-2,{"$f":"SUM($O$2:O291)","v":-276},{"$f":"MAX($L$2:L291)","v":18},-2]
[null,null,null,null,null,null,null,291,300308,300308,false,0,{"$f":"SUM($O$2:O292)","v":-276},{"$f":"MAX($L$2:L292)","v":18},0]
[null,null,null,null,null,null,null,292,442906,442906,false,-2,{"$f":"SUM($O$2:O293)","v":-278},{"$f":"MAX($L$2:L293)","v":18},-2]
[null,null,null,null,null,null,null,293,850457,850457,false,-2,{"$f":"SUM($O$2:O294)","v":-280},{"$f":"MAX($L$2:L294)","v":18},-2]
[null,null,null,null,null,null,null,294,1101982,1101982,false,-2,{"$f":"SUM($O$2:O295)","v":-282},{"$f":"MAX($L$2:L295)","v":18},-2]
[null,null,null,null,null,null,null,295,625497,625497,false,-2,{"$f":"SUM($O$2:O296)","v":-284},{"$f":"MAX($L$2:L296)","v":18},-2]
[null,null,null,null,null,null,null,296,1296360,1296360,false,-2,{"$f":"SUM($O$2:O297)","v":-286},{"$f":"MAX($L$2:L297)","v":18},-2]
[null,null,null,null,null,null,null,297,1011439,1011439,false,-2,{"$f":"SUM($O$2:O298)","v":-288},{"$f":"MAX($L$2:L298)","v":18},-2]
[null,null,null,null,null,null,null,298,265164,265164,false,0,{"$f":"SUM($O$2:O299)","v":-288},{"$f":"MAX($L$2:L299)","v":18},0]
[null,null,null,null,null,null,null,299,282903,282903,false,0,{"$f":"SUM($O$2:O300)","v":-288},{"$f":"MAX($L$2:L300)","v":18},0]
[null,null,null,null,null,null,null,300,1406307,1406307,false,-2,{"$f":"SUM($O$2:O301)","v":-290},{"$f":"MAX($L$2:L301)","v":18},-2]
[null,null,null,null,null,null,null,301,1097612,1097612,false,-2,{"$f":"SUM($O$2:O302)","v":-292},{"$f":"MAX($L$2:L302)","v":18},-2]
[null,null,null,null,null,null,null,302,362003,362003,false,0,{"$f":"SUM($O$2:O303)","v":-292},{"$f":"MAX($L$2:L303)","v":18},0]
[null,null,null,null,null,null,null,303,446103,446103,false,-2,{"$f":"SUM($O$2:O304)","v":-294},{"$f":"MAX($L$2:L304)","v":18},-2]
[null,null,null,null,null,null,null,304,675557,675557,false,-2,{"$f":"SUM($O$2:O305)","v":-296},{"$f":"MAX($L$2:L305)","v":18},-2]
[null,null,null,null,null,null,null,305,997727,997727,false,-2,{"$f":"SUM($O$2:O306)","v":-298},{"$f":"MAX($L$2:L306)","v":18},-2]
[null,null,null,null,null,null,null,306,839503,839503,false,-2,{"$f":"SUM($O$2:O307)","v":-300},{"$f":"MAX($L$2:L307)","v":18},-2]
[null,null,null,null,null,null,null,307,1087498,1087498,false,-2,{"$f":"SUM($O$2:O308)","v":-302},{"$f":"MAX($L$2:L308)","v":18},-2]
[null,null,null,null,null,null,null,308,1077657,1077657,false,-2,{"$f":"SUM($O$2:O309)","v":-304},{"$f":"MAX($L$2:L309)","v":18},-2]
[null,null,null,null,null,null,null,309,1394432,1394432,false,-2,{"$f":"SUM($O$2:O310)","v":-306},{"$f":"MAX($L$2:L310)","v":18},-2]
[null,null,null,null,null,null,null,310,112154,112154,false,2,{"$f":"SUM($O$2:O311)","v":-304},{"$f":"MAX($L$2:L311)","v":18},2]
[null,null,null,null,null,null,null,311,998622,998622,false,-2,{"$f":"SUM($O$2:O312)","v":-306},{"$f":"MAX($L$2:L312)","v":18},-2]
[null,null,null,null,null,null,null,312,1006475,1006475,false,-2,{"$f":"SUM($O$2:O313)","v":-308},{"$f":"MAX($L$2:L313)","v":18},-2]
[null,null,null,null,null,null,null,313,1438903,1438903,false,-2,{"$f":"SUM($O$2:O314)","v":-310},{"$f":"MAX($L$2:L314)","v":18},-2]
[null,null,null,null,null,null,null,314,1228417,1228417,false,-2,{"$f":"SUM($O$2:O315)","v":-312},{"$f":"MAX($L$2:L315)","v":18},-2]
[null,null,null,null,null,null,null,315,394604,394604,false,-2,{"$f":"SUM($O$2:O316)","v":-314},{"$f":"MAX($L$2:L316)","v":18},-2]
[null,null,null,null,null,null,null,316,1004813,1004813,false,-2,{"$f":"SUM($O$2:O317)","v":-316},{"$f":"MAX($L$2:L317)","v":18},-2]
[null,null,null,null,null,null,null,317,1364173,1364173,false,-2,{"$f":"SUM($O$2:O318)","v":-318},{"$f":"MAX($L$2:L318)","v":18},-2]
[null,null,null,null,null,null,null,318,986956,986956,false,-2,{"$f":"SUM($O$2:O319)","v":-320},{"$f":"MAX($L$2:L319)","v":18},-2]
[null,null,null,null,null,null,null,319,340281,340281,false,0,{"$f":"SUM($O$2:O320)","v":-320},{"$f":"MAX($L$2:L320)","v":18},0]
[null,null,null,null,null,null,null,320,424817,424817,false,-2,{"$f":"SUM($O$2:O321)","v":-322},{"$f":"MAX($L$2:L321)","v":18},-2]
[null,null,null,null,null,null,null,321,537345,537345,false,-2,{"$f":"SUM($O$2:O322)","v":-324},{"$f":"MAX($L$2:L322)","v":18},-2]
[null,null,null,null,null,null,null,322,{"$f":"ROUND(RAND()*(1500000-1),0)","v":645267},645267,{"$f":"IF(I323<=$E$10,C331)","v":false},{"$f":"IF(I323>=$F$2,$C$2,(IF(I323>=$F$3,$C$3,IF(I323>=$F$4,$C$4,IF(I323>=$F$5,$C$5,IF(I323>=$F$6,$C$6,IF(I323>=$F$7,$C$7,IF(I323>=$F$8,$C$8,IF(I323>=$F$9,$C$9,IF(I323>=0,999))))))))))","v":-2},{"$f":"SUM($O$2:O323)","v":-326},{"$f":"MAX($L$2:L323)","v":18},{"$f":"IF(K323=FALSE,L323,C331)","v":-2}]
[null,null,null,null,null,null,null,323,1277654,1277654,false,-2,{"$f":"SUM($O$2:O324)","v":-328},{"$f":"MAX($L$2:L324)","v":18},-2]
[null,null,null,null,null,null,null,324,85529,{"$f":"IF($J$1<2,I325)","v":85529},false,2,{"$f":"SUM($O$2:O325)","v":-326},{"$f":"MAX($L$2:L325)","v":18},2]
[null,null,null,null,null,null,null,325,365712,365712,false,-2,{"$f":"SUM($O$2:O326)","v":-328},{"$f":"MAX($L$2:L326)","v":18},-2]
[null,null,null,null,null,null,null,326,1139680,1139680,false,-2,{"$f":"SUM($O$2:O327)","v":-330},{"$f":"MAX($L$2:L327)","v":18},-2]
[null,null,null,null,null,null,null,327,1181845,1181845,false,-2,{"$f":"SUM($O$2:O328)","v":-332},{"$f":"MAX($L$2:L328)","v":18},-2]
[null,null,null,null,null,null,null,328,566965,566965,false,-2,{"$f":"SUM($O$2:O329)","v":-334},{"$f":"MAX($L$2:L329)","v":18},-2]
[null,null,null,null,null,null,null,329,488453,488453,false,-2,{"$f":"SUM($O$2:O330)","v":-336},{"$f":"MAX($L$2:L330)","v":18},-2]
[null,null,null,null,null,null,null,330,793355,793355,false,-2,{"$f":"SUM($O$2:O331)","v":-338},{"$f":"MAX($L$2:L331)","v":18},-2]
[null,null,null,null,null,null,null,331,622580,622580,false,-2,{"$f":"SUM($O$2:O332)","v":-340},{"$f":"MAX($L$2:L332)","v":18},-2]
[null,null,null,null,null,null,null,332,633356,633356,false,-2,{"$f":"SUM($O$2:O333)","v":-342},{"$f":"MAX($L$2:L333)","v":18},-2]
[null,null,null,null,null,null,null,333,525383,525383,false,-2,{"$f":"SUM($O$2:O334)","v":-344},{"$f":"MAX($L$2:L334)","v":18},-2]
[null,null,null,null,null,null,null,334,827719,827719,false,-2,{"$f":"SUM($O$2:O335)","v":-346},{"$f":"MAX($L$2:L335)","v":18},-2]
[null,null,null,null,null,null,null,335,1451326,1451326,false,-2,{"$f":"SUM($O$2:O336)","v":-348},{"$f":"MAX($L$2:L336)","v":18},-2]
[null,null,null,null,null,null,null,336,129124,129124,false,2,{"$f":"SUM($O$2:O337)","v":-346},{"$f":"MAX($L$2:L337)","v":18},2]
[null,null,null,null,null,null,null,337,116428,116428,false,2,{"$f":"SUM($O$2:O338)","v":-344},{"$f":"MAX($L$2:L338)","v":18},2]
[null,null,null,null,null,null,null,338,1030026,1030026,false,-2,{"$f":"SUM($O$2:O339)","v":-346},{"$f":"MAX($L$2:L339)","v":18},-2]
[null,null,null,null,null,null,null,339,93579,93579,false,2,{"$f":"SUM($O$2:O340)","v":-344},{"$f":"MAX($L$2:L340)","v":18},2]
[null,null,null,null,null,null,null,340,483956,483956,false,-2,{"$f":"SUM($O$2:O341)","v":-346},{"$f":"MAX($L$2:L341)","v":18},-2]
[null,null,null,null,null,null,null,341,1406333,1406333,false,-2,{"$f":"SUM($O$2:O342)","v":-348},{"$f":"MAX($L$2:L342)","v":18},-2]
[null,null,null,null,null,null,null,342,982690,982690,false,-2,{"$f":"SUM($O$2:O343)","v":-350},{"$f":"MAX($L$2:L343)","v":18},-2]
[null,null,null,null,null,null,null,343,946813,946813,false,-2,{"$f":"SUM($O$2:O344)","v":-352},{"$f":"MAX($L$2:L344)","v":18},-2]
[null,null,null,null,null,null,null,344,1292874,1292874,false,-2,{"$f":"SUM($O$2:O345)","v":-354},{"$f":"MAX($L$2:L345)","v":18},-2]
[null,null,null,null,null,null,null,345,1323908,1323908,false,-2,{"$f":"SUM($O$2:O346)","v":-356},{"$f":"MAX($L$2:L346)","v":18},-2]
[null,null,null,null,null,null,null,346,345316,345316,false,0,{"$f":"SUM($O$2:O347)","v":-356},{"$f":"MAX($L$2:L347)","v":18},0]
[null,null,null,null,null,null,null,347,82720,82720,false,2,{"$f":"SUM($O$2:O348)","v":-354},{"$f":"MAX($L$2:L348)","v":18},2]
[null,null,null,null,null,null,null,348,830460,830460,false,-2,{"$f":"SUM($O$2:O349)","v":-356},{"$f":"MAX($L$2:L349)","v":18},-2]
[null,null,null,null,null,null,null,349,283282,283282,false,0,{"$f":"SUM($O$2:O350)","v":-356},{"$f":"MAX($L$2:L350)","v":18},0]
[null,null,null,null,null,null,null,350,163919,163919,false,2,{"$f":"SUM($O$2:O351)","v":-354},{"$f":"MAX($L$2:L351)","v":18},2]
[null,null,null,null,null,null,null,351,1301102,1301102,false,-2,{"$f":"SUM($O$2:O352)","v":-356},{"$f":"MAX($L$2:L352)","v":18},-2]
[null,null,null,null,null,null,null,352,188452,188452,false,2,{"$f":"SUM($O$2:O353)","v":-354},{"$f":"MAX($L$2:L353)","v":18},2]
[null,null,null,null,null,null,null,353,732089,732089,false,-2,{"$f":"SUM($O$2:O354)","v":-356},{"$f":"MAX($L$2:L354)","v":18},-2]
[null,null,null,null,null,null,null,354,1445926,1445926,false,-2,{"$f":"SUM($O$2:O355)","v":-358},{"$f":"MAX($L$2:L355)","v":18},-2]
[null,null,null,null,null,null,null,355,368452,368452,false,-2,{"$f":"SUM($O$2:O356)","v":-360},{"$f":"MAX($L$2:L356)","v":18},-2]
[null,null,null,null,null,null,null,356,133234,133234,false,2,{"$f":"SUM($O$2:O357)","v":-358},{"$f":"MAX($L$2:L357)","v":18},2]
[null,null,null,null,null,null,null,357,544611,544611,false,-2,{"$f":"SUM($O$2:O358)","v":-360},{"$f":"MAX($L$2:L358)","v":18},-2]
[null,null,null,null,null,null,null,358,1228509,1228509,false,-2,{"$f":"SUM($O$2:O359)","v":-362},{"$f":"MAX($L$2:L359)","v":18},-2]
[null,null,null,null,null,null,null,359,530932,530932,false,-2,{"$f":"SUM($O$2:O360)","v":-364},{"$f":"MAX($L$2:L360)","v":18},-2]
[null,null,null,null,null,null,null,360,966320,966320,false,-2,{"$f":"SUM($O$2:O361)","v":-366},{"$f":"MAX($L$2:L361)","v":18},-2]
[null,null,null,null,null,null,null,361,926920,926920,false,-2,{"$f":"SUM($O$2:O362)","v":-368},{"$f":"MAX($L$2:L362)","v":18},-2]
[null,null,null,null,null,null,null,362,1097254,1097254,false,-2,{"$f":"SUM($O$2:O363)","v":-370},{"$f":"MAX($L$2:L363)","v":18},-2]
[null,null,null,null,null,null,null,363,893060,893060,false,-2,{"$f":"SUM($O$2:O364)","v":-372},{"$f":"MAX($L$2:L364)","v":18},-2]
[null,null,null,null,null,null,null,364,1326448,1326448,false,-2,{"$f":"SUM($O$2:O365)","v":-374},{"$f":"MAX($L$2:L365)","v":18},-2]
[null,null,null,null,null,null,null,365,404637,404637,false,-2,{"$f":"SUM($O$2:O366)","v":-376},{"$f":"MAX($L$2:L366)","v":18},-2]
[null,null,null,null,null,null,null,366,293565,293565,false,0,{"$f":"SUM($O$2:O367)","v":-376},{"$f":"MAX($L$2:L367)","v":18},0]
[null,null,null,null,null,null,null,367,125823,125823,false,2,{"$f":"SUM($O$2:O368)","v":-374},{"$f":"MAX($L$2:L368)","v":18},2]
[null,null,null,null,null,null,null,368,721126,721126,false,-2,{"$f":"SUM($O$2:O369)","v":-376},{"$f":"MAX($L$2:L369)","v":18},-2]
[null,null,null,null,null,null,null,369,181975,181975,false,2,{"$f":"SUM($O$2:O370)","v":-374},{"$f":"MAX($L$2:L370)","v":18},2]
[null,null,null,null,null,null,null,370,825096,825096,false,-2,{"$f":"SUM($O$2:O371)","v":-376},{"$f":"MAX($L$2:L371)","v":18},-2]
[null,null,null,null,null,null,null,371,494597,494597,false,-2,{"$f":"SUM($O$2:O372)","v":-378},{"$f":"MAX($L$2:L372)","v":18},-2]
[null,null,null,null,null,null,null,372,645512,645512,false,-2,{"$f":"SUM($O$2:O373)","v":-380},{"$f":"MAX($L$2:L373)","v":18},-2]
[null,null,null,null,null,null,null,373,1295174,1295174,false,-2,{"$f":"SUM($O$2:O374)","v":-382},{"$f":"MAX($L$2:L374)","v":18},-2]
[null,null,null,null,null,null,null,374,43835,43835,false,8,{"$f":"SUM($O$2:O375)","v":-374},{"$f":"MAX($L$2:L375)","v":18},8]
[null,null,null,null,null,null,null,375,956719,956719,false,-2,{"$f":"SUM($O$2:O376)","v":-376},{"$f":"MAX($L$2:L376)","v":18},-2]
[null,null,null,null,null,null,null,376,1466786,1466786,false,-2,{"$f":"SUM($O$2:O377)","v":-378},{"$f":"MAX($L$2:L377)","v":18},-2]
[null,null,null,null,null,null,null,377,1019416,1019416,false,-2,{"$f":"SUM($O$2:O378)","v":-380},{"$f":"MAX($L$2:L378)","v":18},-2]
[null,null,null,null,null,null,null,378,671098,671098,false,-2,{"$f":"SUM($O$2:O379)","v":-382},{"$f":"MAX($L$2:L379)","v":18},-2]
[null,null,null,null,null,null,null,379,425057,425057,false,-2,{"$f":"SUM($O$2:O380)","v":-384},{"$f":"MAX($L$2:L380)","v":18},-2]
[null,null,null,null,null,null,null,380,744538,744538,false,-2,{"$f":"SUM($O$2:O381)","v":-386},{"$f":"MAX($L$2:L381)","v":18},-2]
[null,null,null,null,null,null,null,381,174410,174410,false,2,{"$f":"SUM($O$2:O382)","v":-384},{"$f":"MAX($L$2:L382)","v":18},2]
[null,null,null,null,null,null,null,382,1397565,1397565,false,-2,{"$f":"SUM($O$2:O383)","v":-386},{"$f":"MAX($L$2:L383)","v":18},-2]
[null,null,null,null,null,null,null,383,71440,71440,false,2,{"$f":"SUM($O$2:O384)","v":-384},{"$f":"MAX($L$2:L384)","v":18},2]
[null,null,null,null,null,null,null,384,16152,16152,false,18,{"$f":"SUM($O$2:O385)","v":-366},{"$f":"MAX($L$2:L385)","v":18},18]
[null,null,null,null,null,null,null,385,1478006,1478006,false,-2,{"$f":"SUM($O$2:O386)","v":-368},{"$f":"MAX($L$2:L386)","v":18},-2]
[null,null,null,null,null,null,null,386,{"$f":"ROUND(RAND()*(1500000-1),0)","v":613629},613629,{"$f":"IF(I387<=$E$10,C395)","v":false},{"$f":"IF(I387>=$F$2,$C$2,(IF(I387>=$F$3,$C$3,IF(I387>=$F$4,$C$4,IF(I387>=$F$5,$C$5,IF(I387>=$F$6,$C$6,IF(I387>=$F$7,$C$7,IF(I387>=$F$8,$C$8,IF(I387>=$F$9,$C$9,IF(I387>=0,999))))))))))","v":-2},{"$f":"SUM($O$2:O387)","v":-370},{"$f":"MAX($L$2:L387)","v":18},{"$f":"IF(K387=FALSE,L387,C395)","v":-2}]
[null,null,null,null,null,null,null,387,1472569,1472569,false,-2,{"$f":"SUM($O$2:O388)","v":-372},{"$f":"MAX($L$2:L388)","v":18},-2]
[null,null,null,null,null,null,null,388,1388111,{"$f":"IF($J$1<2,I389)","v":1388111},false,-2,{"$f":"SUM($O$2:O389)","v":-374},{"$f":"MAX($L$2:L389)","v":18},-2]
[null,null,null,null,null,null,null,389,913803,913803,false,-2,{"$f":"SUM($O$2:O390)","v":-376},{"$f":"MAX($L$2:L390)","v":18},-2]
[null,null,null,null,null,null,null,390,676414,676414,false,-2,{"$f":"SUM($O$2:O391)","v":-378},{"$f":"MAX($L$2:L391)","v":18},-2]
[null,null,null,null,null,null,null,391,113117,113117,false,2,{"$f":"SUM($O$2:O392)","v":-376},{"$f":"MAX($L$2:L392)","v":18},2]
[null,null,null,null,null,null,null,392,484031,484031,false,-2,{"$f":"SUM($O$2:O393)","v":-378},{"$f":"MAX($L$2:L393)","v":18},-2]
[null,null,null,null,null,null,null,393,1420401,1420401,false,-2,{"$f":"SUM($O$2:O394)","v":-380},{"$f":"MAX($L$2:L394)","v":18},-2]
[null,null,null,null,null,null,null,394,773976,773976,false,-2,{"$f":"SUM($O$2:O395)","v":-382},{"$f":"MAX($L$2:L395)","v":18},-2]
[null,null,null,null,null,null,null,395,360373,360373,false,0,{"$f":"SUM($O$2:O396)","v":-382},{"$f":"MAX($L$2:L396)","v":18},0]
[null,null,null,null,null,null,null,396,548769,548769,false,-2,{"$f":"SUM($O$2:O397)","v":-384},{"$f":"MAX($L$2:L397)","v":18},-2]
[null,null,null,null,null,null,null,397,879339,879339,false,-2,{"$f":"SUM($O$2:O398)","v":-386},{"$f":"MAX($L$2:L398)","v":18},-2]
[null,null,null,null,null,null,null,398,1239291,1239291,false,-2,{"$f":"SUM($O$2:O399)","v":-388},{"$f":"MAX($L$2:L399)","v":18},-2]
[null,null,null,null,null,null,null,399,884150,884150,false,-2,{"$f":"SUM($O$2:O400)","v":-390},{"$f":"MAX($L$2:L400)","v":18},-2]
[null,null,null,null,null,null,null,400,1390127,1390127,false,-2,{"$f":"SUM($O$2:O401)","v":-392},{"$f":"MAX($L$2:L401)","v":18},-2]
[null,null,null,null,null,null,null,401,844103,844103,false,-2,{"$f":"SUM($O$2:O402)","v":-394},{"$f":"MAX($L$2:L402)","v":18},-2]
[null,null,null,null,null,null,null,402,292012,292012,false,0,{"$f":"SUM($O$2:O403)","v":-394},{"$f":"MAX($L$2:L403)","v":18},0]
[null,null,null,null,null,null,null,403,341321,341321,false,0,{"$f":"SUM($O$2:O404)","v":-394},{"$f":"MAX($L$2:L404)","v":18},0]
[null,null,null,null,null,null,null,404,431080,431080,false,-2,{"$f":"SUM($O$2:O405)","v":-396},{"$f":"MAX($L$2:L405)","v":18},-2]
[null,null,null,null,null,null,null,405,1457169,1457169,false,-2,{"$f":"SUM($O$2:O406)","v":-398},{"$f":"MAX($L$2:L406)","v":18},-2]
[null,null,null,null,null,null,null,406,1398759,1398759,false,-2,{"$f":"SUM($O$2:O407)","v":-400},{"$f":"MAX($L$2:L407)","v":18},-2]
[null,null,null,null,null,null,null,407,1382674,1382674,false,-2,{"$f":"SUM($O$2:O408)","v":-402},{"$f":"MAX($L$2:L408)","v":18},-2]
[null,null,null,null,null,null,null,408,1320995,1320995,false,-2,{"$f":"SUM($O$2:O409)","v":-404},{"$f":"MAX($L$2:L409)","v":18},-2]
[null,null,null,null,null,null,null,409,783968,783968,false,-2,{"$f":"SUM($O$2:O410)","v":-406},{"$f":"MAX($L$2:L410)","v":18},-2]
[null,null,null,null,null,null,null,410,148547,148547,false,2,{"$f":"SUM($O$2:O411)","v":-404},{"$f":"MAX($L$2:L411)","v":18},2]
[null,null,null,null,null,null,null,411,487975,487975,false,-2,{"$f":"SUM($O$2:O412)","v":-406},{"$f":"MAX($L$2:L412)","v":18},-2]
[null,null,null,null,null,null,null,412,1066322,1066322,false,-2,{"$f":"SUM($O$2:O413)","v":-408},{"$f":"MAX($L$2:L413)","v":18},-2]
[null,null,null,null,null,null,null,413,1426513,1426513,false,-2,{"$f":"SUM($O$2:O414)","v":-410},{"$f":"MAX($L$2:L414)","v":18},-2]
[null,null,null,null,null,null,null,414,423936,423936,false,-2,{"$f":"SUM($O$2:O415)","v":-412},{"$f":"MAX($L$2:L415)","v":18},-2]
[null,null,null,null,null,null,null,415,1009472,1009472,false,-2,{"$f":"SUM($O$2:O416)","v":-414},{"$f":"MAX($L$2:L416)","v":18},-2]
[null,null,null,null,null,null,null,416,462460,462460,false,-2,{"$f":"SUM($O$2:O417)","v":-416},{"$f":"MAX($L$2:L417)","v":18},-2]
[null,null,null,null,null,null,null,417,1140823,1140823,false,-2,{"$f":"SUM($O$2:O418)","v":-418},{"$f":"MAX($L$2:L418)","v":18},-2]
[null,null,null,null,null,null,null,418,990848,990848,false,-2,{"$f":"SUM($O$2:O419)","v":-420},{"$f":"MAX($L$2:L419)","v":18},-2]
[null,null,null,null,null,null,null,419,526526,526526,false,-2,{"$f":"SUM($O$2:O420)","v":-422},{"$f":"MAX($L$2:L420)","v":18},-2]
[null,null,null,null,null,null,null,420,1072601,1072601,false,-2,{"$f":"SUM($O$2:O421)","v":-424},{"$f":"MAX($L$2:L421)","v":18},-2]
[null,null,null,null,null,null,null,421,1147288,1147288,false,-2,{"$f":"SUM($O$2:O422)","v":-426},{"$f":"MAX($L$2:L422)","v":18},-2]
[null,null,null,null,null,null,null,422,1351638,1351638,false,-2,{"$f":"SUM($O$2:O423)","v":-428},{"$f":"MAX($L$2:L423)","v":18},-2]
[null,null,null,null,null,null,null,423,807152,807152,false,-2,{"$f":"SUM($O$2:O424)","v":-430},{"$f":"MAX($L$2:L424)","v":18},-2]
[null,null,null,null,null,null,null,424,588725,588725,false,-2,{"$f":"SUM($O$2:O425)","v":-432},{"$f":"MAX($L$2:L425)","v":18},-2]
[null,null,null,null,null,null,null,425,1463719,1463719,false,-2,{"$f":"SUM($O$2:O426)","v":-434},{"$f":"MAX($L$2:L426)","v":18},-2]
[null,null,null,null,null,null,null,426,812803,812803,false,-2,{"$f":"SUM($O$2:O427)","v":-436},{"$f":"MAX($L$2:L427)","v":18},-2]
[null,null,null,null,null,null,null,427,306153,306153,false,0,{"$f":"SUM($O$2:O428)","v":-436},{"$f":"MAX($L$2:L428)","v":18},0]
[null,null,null,null,null,null,null,428,899452,899452,false,-2,{"$f":"SUM($O$2:O429)","v":-438},{"$f":"MAX($L$2:L429)","v":18},-2]
[null,null,null,null,null,null,null,429,1477388,1477388,false,-2,{"$f":"SUM($O$2:O430)","v":-440},{"$f":"MAX($L$2:L430)","v":18},-2]
[null,null,null,null,null,null,null,430,829631,829631,false,-2,{"$f":"SUM($O$2:O431)","v":-442},{"$f":"MAX($L$2:L431)","v":18},-2]
[null,null,null,null,null,null,null,431,771145,771145,false,-2,{"$f":"SUM($O$2:O432)","v":-444},{"$f":"MAX($L$2:L432)","v":18},-2]
[null,null,null,null,null,null,null,432,710601,710601,false,-2,{"$f":"SUM($O$2:O433)","v":-446},{"$f":"MAX($L$2:L433)","v":18},-2]
[null,null,null,null,null,null,null,433,1020410,1020410,false,-2,{"$f":"SUM($O$2:O434)","v":-448},{"$f":"MAX($L$2:L434)","v":18},-2]
[null,null,null,null,null,null,null,434,586654,586654,false,-2,{"$f":"SUM($O$2:O435)","v":-450},{"$f":"MAX($L$2:L435)","v":18},-2]
[null,null,null,null,null,null,null,435,1200032,1200032,false,-2,{"$f":"SUM($O$2:O436)","v":-452},{"$f":"MAX($L$2:L436)","v":18},-2]
[null,null,null,null,null,null,null,436,1444440,1444440,false,-2,{"$f":"SUM($O$2:O437)","v":-454},{"$f":"MAX($L$2:L437)","v":18},-2]
[null,null,null,null,null,null,null,437,479974,479974,false,-2,{"$f":"SUM($O$2:O438)","v":-456},{"$f":"MAX($L$2:L438)","v":18},-2]
[null,null,null,null,null,null,null,438,1246020,1246020,false,-2,{"$f":"SUM($O$2:O439)","v":-458},{"$f":"MAX($L$2:L439)","v":18},-2]
[null,null,null,null,null,null,null,439,321641,321641,false,0,{"$f":"SUM($O$2:O440)","v":-458},{"$f":"MAX($L$2:L440)","v":18},0]
[null,null,null,null,null,null,null,440,786311,786311,false,-2,{"$f":"SUM($O$2:O441)","v":-460},{"$f":"MAX($L$2:L441)","v":18},-2]
[null,null,null,null,null,null,null,441,1093858,1093858,false,-2,{"$f":"SUM($O$2:O442)","v":-462},{"$f":"MAX($L$2:L442)","v":18},-2]
[null,null,null,null,null,null,null,442,573756,573756,false,-2,{"$f":"SUM($O$2:O443)","v":-464},{"$f":"MAX($L$2:L443)","v":18},-2]
[null,null,null,null,null,null,null,443,1493871,1493871,false,-2,{"$f":"SUM($O$2:O444)","v":-466},{"$f":"MAX($L$2:L444)","v":18},-2]
[null,null,null,null,null,null,null,444,1075819,1075819,false,-2,{"$f":"SUM($O$2:O445)","v":-468},{"$f":"MAX($L$2:L445)","v":18},-2]
[null,null,null,null,null,null,null,445,621668,621668,false,-2,{"$f":"SUM($O$2:O446)","v":-470},{"$f":"MAX($L$2:L446)","v":18},-2]
[null,null,null,null,null,null,null,446,1095399,1095399,false,-2,{"$f":"SUM($O$2:O447)","v":-472},{"$f":"MAX($L$2:L447)","v":18},-2]
[null,null,null,null,null,null,null,447,705217,705217,false,-2,{"$f":"SUM($O$2:O448)","v":-474},{"$f":"MAX($L$2:L448)","v":18},-2]
[null,null,null,null,null,null,null,448,843196,843196,false,-2,{"$f":"SUM($O$2:O449)","v":-476},{"$f":"MAX($L$2:L449)","v":18},-2]
[null,null,null,null,null,null,null,449,830870,830870,false,-2,{"$f":"SUM($O$2:O450)","v":-478},{"$f":"MAX($L$2:L450)","v":18},-2]
[null,null,null,null,null,null,null,450,{"$f":"ROUND(RAND()*(1500000-1),0)","v":941064},941064,{"$f":"IF(I451<=$E$10,C459)","v":false},{"$f":"IF(I451>=$F$2,$C$2,(IF(I451>=$F$3,$C$3,IF(I451>=$F$4,$C$4,IF(I451>=$F$5,$C$5,IF(I451>=$F$6,$C$6,IF(I451>=$F$7,$C$7,IF(I451>=$F$8,$C$8,IF(I451>=$F$9,$C$9,IF(I451>=0,999))))))))))","v":-2},{"$f":"SUM($O$2:O451)","v":-480},{"$f":"MAX($L$2:L451)","v":18},{"$f":"IF(K451=FALSE,L451,C459)","v":-2}]
[null,null,null,null,null,null,null,451,634580,634580,false,-2,{"$f":"SUM($O$2:O452)","v":-482},{"$f":"MAX($L$2:L452)","v":18},-2]
[null,null,null,null,null,null,null,452,1290871,{"$f":"IF($J$1<2,I453)","v":1290871},false,-2,{"$f":"SUM($O$2:O453)","v":-484},{"$f":"MAX($L$2:L453)","v":18},-2]
[null,null,null,null,null,null,null,453,1076898,1076898,false,-2,{"$f":"SUM($O$2:O454)","v":-486},{"$f":"MAX($L$2:L454)","v":18},-2]
[null,null,null,null,null,null,null,454,828483,828483,false,-2,{"$f":"SUM($O$2:O455)","v":-488},{"$f":"MAX($L$2:L455)","v":18},-2]
[null,null,null,null,null,null,null,455,1185731,1185731,false,-2,{"$f":"SUM($O$2:O456)","v":-490},{"$f":"MAX($L$2:L456)","v":18},-2]
[null,null,null,null,null,null,null,456,959360,959360,false,-2,{"$f":"SUM($O$2:O457)","v":-492},{"$f":"MAX($L$2:L457)","v":18},-2]
[null,null,null,null,null,null,null,457,295673,295673,false,0,{"$f":"SUM($O$2:O458)","v":-492},{"$f":"MAX($L$2:L458)","v":18},0]
[null,null,null,null,null,null,null,458,13727,13727,false,18,{"$f":"SUM($O$2:O459)","v":-474},{"$f":"MAX($L$2:L459)","v":18},18]
[null,null,null,null,null,null,null,459,1373908,1373908,false,-2,{"$f":"SUM($O$2:O460)","v":-476},{"$f":"MAX($L$2:L460)","v":18},-2]
[null,null,null,null,null,null,null,460,366291,366291,false,-2,{"$f":"SUM($O$2:O461)","v":-478},{"$f":"MAX($L$2:L461)","v":18},-2]
[null,null,null,null,null,null,null,461,1366561,1366561,false,-2,{"$f":"SUM($O$2:O462)","v":-480},{"$f":"MAX($L$2:L462)","v":18},-2]
[null,null,null,null,null,null,null,462,1435033,1435033,false,-2,{"$f":"SUM($O$2:O463)","v":-482},{"$f":"MAX($L$2:L463)","v":18},-2]
[null,null,null,null,null,null,null,463,436048,436048,false,-2,{"$f":"SUM($O$2:O464)","v":-484},{"$f":"MAX($L$2:L464)","v":18},-2]
[null,null,null,null,null,null,null,464,613221,613221,false,-2,{"$f":"SUM($O$2:O465)","v":-486},{"$f":"MAX($L$2:L465)","v":18},-2]
[null,null,null,null,null,null,null,465,1111580,1111580,false,-2,{"$f":"SUM($O$2:O466)","v":-488},{"$f":"MAX($L$2:L466)","v":18},-2]
[null,null,null,null,null,null,null,466,184461,184461,false,2,{"$f":"SUM($O$2:O467)","v":-486},{"$f":"MAX($L$2:L467)","v":18},2]
[null,null,null,null,null,null,null,467,519617,519617,false,-2,{"$f":"SUM($O$2:O468)","v":-488},{"$f":"MAX($L$2:L468)","v":18},-2]
[null,null,null,null,null,null,null,468,291455,291455,false,0,{"$f":"SUM($O$2:O469)","v":-488},{"$f":"MAX($L$2:L469)","v":18},0]
[null,null,null,null,null,null,null,469,363148,363148,false,0,{"$f":"SUM($O$2:O470)","v":-488},{"$f":"MAX($L$2:L470)","v":18},0]
[null,null,null,null,null,null,null,470,1003087,1003087,false,-2,{"$f":"SUM($O$2:O471)","v":-490},{"$f":"MAX($L$2:L471)","v":18},-2]
[null,null,null,null,null,null,null,471,1210227,1210227,false,-2,{"$f":"SUM($O$2:O472)","v":-492},{"$f":"MAX($L$2:L472)","v":18},-2]
[null,null,null,null,null,null,null,472,907553,907553,false,-2,{"$f":"SUM($O$2:O473)","v":-494},{"$f":"MAX($L$2:L473)","v":18},-2]
[null,null,null,null,null,null,null,473,724402,724402,false,-2,{"$f":"SUM($O$2:O474)","v":-496},{"$f":"MAX($L$2:L474)","v":18},-2]
[null,null,null,null,null,null,null,474,422760,422760,false,-2,{"$f":"SUM($O$2:O475)","v":-498},{"$f":"MAX($L$2:L475)","v":18},-2]
[null,null,null,null,null,null,null,475,1491054,1491054,false,-2,{"$f":"SUM($O$2:O476)","v":-500},{"$f":"MAX($L$2:L476)","v":18},-2]
[null,null,null,null,null,null,null,476,1093093,1093093,false,-2,{"$f":"SUM($O$2:O477)","v":-502},{"$f":"MAX($L$2:L477)","v":18},-2]
[null,null,null,null,null,null,null,477,856111,856111,false,-2,{"$f":"SUM($O$2:O478)","v":-504},{"$f":"MAX($L$2:L478)","v":18},-2]
[null,null,null,null,null,null,null,478,1342624,1342624,false,-2,{"$f":"SUM($O$2:O479)","v":-506},{"$f":"MAX($L$2:L479)","v":18},-2]
[null,null,null,null,null,null,null,479,647509,647509,false,-2,{"$f":"SUM($O$2:O480)","v":-508},{"$f":"MAX($L$2:L480)","v":18},-2]
[null,null,null,null,null,null,null,480,175087,175087,false,2,{"$f":"SUM($O$2:O481)","v":-506},{"$f":"MAX($L$2:L481)","v":18},2]
[null,null,null,null,null,null,null,481,913857,913857,false,-2,{"$f":"SUM($O$2:O482)","v":-508},{"$f":"MAX($L$2:L482)","v":18},-2]
[null,null,null,null,null,null,null,482,209763,209763,false,2,{"$f":"SUM($O$2:O483)","v":-506},{"$f":"MAX($L$2:L483)","v":18},2]
[null,null,null,null,null,null,null,483,347736,347736,false,0,{"$f":"SUM($O$2:O484)","v":-506},{"$f":"MAX($L$2:L484)","v":18},0]
[null,null,null,null,null,null,null,484,265204,265204,false,0,{"$f":"SUM($O$2:O485)","v":-506},{"$f":"MAX($L$2:L485)","v":18},0]
[null,null,null,null,null,null,null,485,306115,306115,false,0,{"$f":"SUM($O$2:O486)","v":-506},{"$f":"MAX($L$2:L486)","v":18},0]
[null,null,null,null,null,null,null,486,150303,150303,false,2,{"$f":"SUM($O$2:O487)","v":-504},{"$f":"MAX($L$2:L487)","v":18},2]
[null,null,null,null,null,null,null,487,509537,509537,false,-2,{"$f":"SUM($O$2:O488)","v":-506},{"$f":"MAX($L$2:L488)","v":18},-2]
[null,null,null,null,null,null,null,488,92682,92682,false,2,{"$f":"SUM($O$2:O489)","v":-504},{"$f":"MAX($L$2:L489)","v":18},2]
[null,null,null,null,null,null,null,489,507821,507821,false,-2,{"$f":"SUM($O$2:O490)","v":-506},{"$f":"MAX($L$2:L490)","v":18},-2]
[null,null,null,null,null,null,null,490,869331,869331,false,-2,{"$f":"SUM($O$2:O491)","v":-508},{"$f":"MAX($L$2:L491)","v":18},-2]
[null,null,null,null,null,null,null,491,862482,862482,false,-2,{"$f":"SUM($O$2:O492)","v":-510},{"$f":"MAX($L$2:L492)","v":18},-2]
[null,null,null,null,null,null,null,492,1206678,1206678,false,-2,{"$f":"SUM($O$2:O493)","v":-512},{"$f":"MAX($L$2:L493)","v":18},-2]
[null,null,null,null,null,null,null,493,1299225,1299225,false,-2,{"$f":"SUM($O$2:O494)","v":-514},{"$f":"MAX($L$2:L494)","v":18},-2]
[null,null,null,null,null,null,null,494,1235012,1235012,false,-2,{"$f":"SUM($O$2:O495)","v":-516},{"$f":"MAX($L$2:L495)","v":18},-2]
[null,null,null,null,null,null,null,495,428816,428816,false,-2,{"$f":"SUM($O$2:O496)","v":-518},{"$f":"MAX($L$2:L496)","v":18},-2]
[null,null,null,null,null,null,null,496,1470066,1470066,false,-2,{"$f":"SUM($O$2:O497)","v":-520},{"$f":"MAX($L$2:L497)","v":18},-2]
[null,null,null,null,null,null,null,497,620298,620298,false,-2,{"$f":"SUM($O$2:O498)","v":-522},{"$f":"MAX($L$2:L498)","v":18},-2]
[null,null,null,null,null,null,null,498,1015298,1015298,false,-2,{"$f":"SUM($O$2:O499)","v":-524},{"$f":"MAX($L$2:L499)","v":18},-2]
[null,null,null,null,null,null,null,499,109459,109459,false,2,{"$f":"SUM($O$2:O500)","v":-522},{"$f":"MAX($L$2:L500)","v":18},2]
[null,null,null,null,null,null,null,500,809812,809812,false,-2,{"$f":"SUM($O$2:O501)","v":-524},{"$f":"MAX($L$2:L501)","v":18},-2]
[null,null,null,null,null,null,null,501,1165562,1165562,false,-2,{"$f":"SUM($O$2:O502)","v":-526},{"$f":"MAX($L$2:L502)","v":18},-2]
[null,null,null,null,null,null,null,502,466521,466521,false,-2,{"$f":"SUM($O$2:O503)","v":-528},{"$f":"MAX($L$2:L503)","v":18},-2]
[null,null,null,null,null,null,null,503,1219326,1219326,false,-2,{"$f":"SUM($O$2:O504)","v":-530},{"$f":"MAX($L$2:L504)","v":18},-2]
[null,null,null,null,null,null,null,504,1091843,1091843,false,-2,{"$f":"SUM($O$2:O505)","v":-532},{"$f":"MAX($L$2:L505)","v":18},-2]
[null,null,null,null,null,null,null,505,589872,589872,false,-2,{"$f":"SUM($O$2:O506)","v":-534},{"$f":"MAX($L$2:L506)","v":18},-2]
[null,null,null,null,null,null,null,506,1126436,1126436,false,-2,{"$f":"SUM($O$2:O507)","v":-536},{"$f":"MAX($L$2:L507)","v":18},-2]
[null,null,null,null,null,null,null,507,561183,561183,false,-2,{"$f":"SUM($O$2:O508)","v":-538},{"$f":"MAX($L$2:L508)","v":18},-2]
[null,null,null,null,null,null,null,508,1313371,1313371,false,-2,{"$f":"SUM($O$2:O509)","v":-540},{"$f":"MAX($L$2:L509)","v":18},-2]
[null,null,null,null,null,null,null,509,245497,245497,false,2,{"$f":"SUM($O$2:O510)","v":-538},{"$f":"MAX($L$2:L510)","v":18},2]
[null,null,null,null,null,null,null,510,648239,648239,false,-2,{"$f":"SUM($O$2:O511)","v":-540},{"$f":"MAX($L$2:L511)","v":18},-2]
[null,null,null,null,null,null,null,511,744452,744452,false,-2,{"$f":"SUM($O$2:O512)","v":-542},{"$f":"MAX($L$2:L512)","v":18},-2]
[null,null,null,null,null,null,null,512,789020,789020,false,-2,{"$f":"SUM($O$2:O513)","v":-544},{"$f":"MAX($L$2:L513)","v":18},-2]
[null,null,null,null,null,null,null,513,819122,819122,false,-2,{"$f":"SUM($O$2:O514)","v":-546},{"$f":"MAX($L$2:L514)","v":18},-2]
[null,null,null,null,null,null,null,514,{"$f":"ROUND(RAND()*(1500000-1),0)","v":460487},460487,{"$f":"IF(I515<=$E$10,C523)","v":false},{"$f":"IF(I515>=$F$2,$C$2,(IF(I515>=$F$3,$C$3,IF(I515>=$F$4,$C$4,IF(I515>=$F$5,$C$5,IF(I515>=$F$6,$C$6,IF(I515>=$F$7,$C$7,IF(I515>=$F$8,$C$8,IF(I515>=$F$9,$C$9,IF(I515>=0,999))))))))))","v":-2},{"$f":"SUM($O$2:O515)","v":-548},{"$f":"MAX($L$2:L515)","v":18},{"$f":"IF(K515=FALSE,L515,C523)","v":-2}]
[null,null,null,null,null,null,null,515,702779,702779,false,-2,{"$f":"SUM($O$2:O516)","v":-550},{"$f":"MAX($L$2:L516)","v":18},-2]
[null,null,null,null,null,null,null,516,476216,{"$f":"IF($J$1<2,I517)","v":476216},false,-2,{"$f":"SUM($O$2:O517)","v":-552},{"$f":"MAX($L$2:L517)","v":18},-2]
[null,null,null,null,null,null,null,517,640442,640442,false,-2,{"$f":"SUM($O$2:O518)","v":-554},{"$f":"MAX($L$2:L518)","v":18},-2]
[null,null,null,null,null,null,null,518,882592,882592,false,-2,{"$f":"SUM($O$2:O519)","v":-556},{"$f":"MAX($L$2:L519)","v":18},-2]
[null,null,null,null,null,null,null,519,1434237,1434237,false,-2,{"$f":"SUM($O$2:O520)","v":-558},{"$f":"MAX($L$2:L520)","v":18},-2]
[null,null,null,null,null,null,null,520,1284517,1284517,false,-2,{"$f":"SUM($O$2:O521)","v":-560},{"$f":"MAX($L$2:L521)","v":18},-2]
[null,null,null,null,null,null,null,521,628833,628833,false,-2,{"$f":"SUM($O$2:O522)","v":-562},{"$f":"MAX($L$2:L522)","v":18},-2]
[null,null,null,null,null,null,null,522,911706,911706,false,-2,{"$f":"SUM($O$2:O523)","v":-564},{"$f":"MAX($L$2:L523)","v":18},-2]
[null,null,null,null,null,null,null,523,427487,427487,false,-2,{"$f":"SUM($O$2:O524)","v":-566},{"$f":"MAX($L$2:L524)","v":18},-2]
[null,null,null,null,null,null,null,524,4843,4843,false,18,{"$f":"SUM($O$2:O525)","v":-548},{"$f":"MAX($L$2:L525)","v":18},18]
[null,null,null,null,null,null,null,525,1273103,1273103,false,-2,{"$f":"SUM($O$2:O526)","v":-550},{"$f":"MAX($L$2:L526)","v":18},-2]
[null,null,null,null,null,null,null,526,597126,597126,false,-2,{"$f":"SUM($O$2:O527)","v":-552},{"$f":"MAX($L$2:L527)","v":18},-2]
[null,null,null,null,null,null,null,527,343080,343080,false,0,{"$f":"SUM($O$2:O528)","v":-552},{"$f":"MAX($L$2:L528)","v":18},0]
[null,null,null,null,null,null,null,528,1343248,1343248,false,-2,{"$f":"SUM($O$2:O529)","v":-554},{"$f":"MAX($L$2:L529)","v":18},-2]
[null,null,null,null,null,null,null,529,715780,715780,false,-2,{"$f":"SUM($O$2:O530)","v":-556},{"$f":"MAX($L$2:L530)","v":18},-2]
[null,null,null,null,null,null,null,530,1400706,1400706,false,-2,{"$f":"SUM($O$2:O531)","v":-558},{"$f":"MAX($L$2:L531)","v":18},-2]
[null,null,null,null,null,null,null,531,27997,27997,false,8,{"$f":"SUM($O$2:O532)","v":-550},{"$f":"MAX($L$2:L532)","v":18},8]
[null,null,null,null,null,null,null,532,1254669,1254669,false,-2,{"$f":"SUM($O$2:O533)","v":-552},{"$f":"MAX($L$2:L533)","v":18},-2]
[null,null,null,null,null,null,null,533,1336855,1336855,false,-2,{"$f":"SUM($O$2:O534)","v":-554},{"$f":"MAX($L$2:L534)","v":18},-2]
[null,null,null,null,null,null,null,534,886168,886168,false,-2,{"$f":"SUM($O$2:O535)","v":-556},{"$f":"MAX($L$2:L535)","v":18},-2]
[null,null,null,null,null,null,null,535,235121,235121,false,2,{"$f":"SUM($O$2:O536)","v":-554},{"$f":"MAX($L$2:L536)","v":18},2]
[null,null,null,null,null,null,null,536,868801,868801,false,-2,{"$f":"SUM($O$2:O537)","v":-556},{"$f":"MAX($L$2:L537)","v":18},-2]
[null,null,null,null,null,null,null,537,805796,805796,false,-2,{"$f":"SUM($O$2:O538)","v":-558},{"$f":"MAX($L$2:L538)","v":18},-2]
[null,null,null,null,null,null,null,538,281082,281082,false,0,{"$f":"SUM($O$2:O539)","v":-558},{"$f":"MAX($L$2:L539)","v":18},0]
[null,null,null,null,null,null,null,539,654998,654998,false,-2,{"$f":"SUM($O$2:O540)","v":-560},{"$f":"MAX($L$2:L540)","v":18},-2]
[null,null,null,null,null,null,null,540,1317258,1317258,false,-2,{"$f":"SUM($O$2:O541)","v":-562},{"$f":"MAX($L$2:L541)","v":18},-2]
[null,null,null,null,null,null,null,541,1066117,1066117,false,-2,{"$f":"SUM($O$2:O542)","v":-564},{"$f":"MAX($L$2:L542)","v":18},-2]
[null,null,null,null,null,null,null,542,1436413,1436413,false,-2,{"$f":"SUM($O$2:O543)","v":-566},{"$f":"MAX($L$2:L543)","v":18},-2]
[null,null,null,null,null,null,null,543,107348,107348,false,2,{"$f":"SUM($O$2:O544)","v":-564},{"$f":"MAX($L$2:L544)","v":18},2]
[null,null,null,null,null,null,null,544,504369,504369,false,-2,{"$f":"SUM($O$2:O545)","v":-566},{"$f":"MAX($L$2:L545)","v":18},-2]
[null,null,null,null,null,null,null,545,1227394,1227394,false,-2,{"$f":"SUM($O$2:O546)","v":-568},{"$f":"MAX($L$2:L546)","v":18},-2]
[null,null,null,null,null,null,null,546,888078,888078,false,-2,{"$f":"SUM($O$2:O547)","v":-570},{"$f":"MAX($L$2:L547)","v":18},-2]
[null,null,null,null,null,null,null,547,1389284,1389284,false,-2,{"$f":"SUM($O$2:O548)","v":-572},{"$f":"MAX($L$2:L548)","v":18},-2]
[null,null,null,null,null,null,null,548,399992,399992,false,-2,{"$f":"SUM($O$2:O549)","v":-574},{"$f":"MAX($L$2:L549)","v":18},-2]
[null,null,null,null,null,null,null,549,1233175,1233175,false,-2,{"$f":"SUM($O$2:O550)","v":-576},{"$f":"MAX($L$2:L550)","v":18},-2]
[null,null,null,null,null,null,null,550,507017,507017,false,-2,{"$f":"SUM($O$2:O551)","v":-578},{"$f":"MAX($L$2:L551)","v":18},-2]
[null,null,null,null,null,null,null,551,396982,396982,false,-2,{"$f":"SUM($O$2:O552)","v":-580},{"$f":"MAX($L$2:L552)","v":18},-2]
[null,null,null,null,null,null,null,552,1181755,1181755,false,-2,{"$f":"SUM($O$2:O553)","v":-582},{"$f":"MAX($L$2:L553)","v":18},-2]
[null,null,null,null,null,null,null,553,78524,78524,false,2,{"$f":"SUM($O$2:O554)","v":-580},{"$f":"MAX($L$2:L554)","v":18},2]
[null,null,null,null,null,null,null,554,1391893,1391893,false,-2,{"$f":"SUM($O$2:O555)","v":-582},{"$f":"MAX($L$2:L555)","v":18},-2]
[null,null,null,null,null,null,null,555,989720,989720,false,-2,{"$f":"SUM($O$2:O556)","v":-584},{"$f":"MAX($L$2:L556)","v":18},-2]
[null,null,null,null,null,null,null,556,1322688,1322688,false,-2,{"$f":"SUM($O$2:O557)","v":-586},{"$f":"MAX($L$2:L557)","v":18},-2]
[null,null,null,null,null,null,null,557,1052364,1052364,false,-2,{"$f":"SUM($O$2:O558)","v":-588},{"$f":"MAX($L$2:L558)","v":18},-2]
[null,null,null,null,null,null,null,558,997433,997433,false,-2,{"$f":"SUM($O$2:O559)","v":-590},{"$f":"MAX($L$2:L559)","v":18},-2]
[null,null,null,null,null,null,null,559,613782,613782,false,-2,{"$f":"SUM($O$2:O560)","v":-592},{"$f":"MAX($L$2:L560)","v":18},-2]
[null,null,null,null,null,null,null,560,630020,630020,false,-2,{"$f":"SUM($O$2:O561)","v":-594},{"$f":"MAX($L$2:L561)","v":18},-2]
[null,null,null,null,null,null,null,561,629049,629049,false,-2,{"$f":"SUM($O$2:O562)","v":-596},{"$f":"MAX($L$2:L562)","v":18},-2]
[null,null,null,null,null,null,null,562,579623,579623,false,-2,{"$f":"SUM($O$2:O563)","v":-598},{"$f":"MAX($L$2:L563)","v":18},-2]
[null,null,null,null,null,null,null,563,129460,129460,false,2,{"$f":"SUM($O$2:O564)","v":-596},{"$f":"MAX($L$2:L564)","v":18},2]
[null,null,null,null,null,null,null,564,312107,312107,false,0,{"$f":"SUM($O$2:O565)","v":-596},{"$f":"MAX($L$2:L565)","v":18},0]
[null,null,null,null,null,null,null,565,964223,964223,false,-2,{"$f":"SUM($O$2:O566)","v":-598},{"$f":"MAX($L$2:L566)","v":18},-2]
[null,null,null,null,null,null,null,566,1031864,1031864,false,-2,{"$f":"SUM($O$2:O567)","v":-600},{"$f":"MAX($L$2:L567)","v":18},-2]
[null,null,null,null,null,null,null,567,543116,543116,false,-2,{"$f":"SUM($O$2:O568)","v":-602},{"$f":"MAX($L$2:L568)","v":18},-2]
[null,null,null,null,null,null,null,568,83352,83352,false,2,{"$f":"SUM($O$2:O569)","v":-600},{"$f":"MAX($L$2:L569)","v":18},2]
[null,null,null,null,null,null,null,569,425350,425350,false,-2,{"$f":"SUM($O$2:O570)","v":-602},{"$f":"MAX($L$2:L570)","v":18},-2]
[null,null,null,null,null,null,null,570,1273185,1273185,false,-2,{"$f":"SUM($O$2:O571)","v":-604},{"$f":"MAX($L$2:L571)","v":18},-2]
[null,null,null,null,null,null,null,571,1074034,1074034,false,-2,{"$f":"SUM($O$2:O572)","v":-606},{"$f":"MAX($L$2:L572)","v":18},-2]
[null,null,null,null,null,null,null,572,1453227,1453227,false,-2,{"$f":"SUM($O$2:O573)","v":-608},{"$f":"MAX($L$2:L573)","v":18},-2]
[null,null,null,null,null,null,null,573,530686,530686,false,-2,{"$f":"SUM($O$2:O574)","v":-610},{"$f":"MAX($L$2:L574)","v":18},-2]
[null,null,null,null,null,null,null,574,147612,147612,false,2,{"$f":"SUM($O$2:O575)","v":-608},{"$f":"MAX($L$2:L575)","v":18},2]
[null,null,null,null,null,null,null,575,198579,198579,false,2,{"$f":"SUM($O$2:O576)","v":-606},{"$f":"MAX($L$2:L576)","v":18},2]
[null,null,null,null,null,null,null,576,1483582,1483582,false,-2,{"$f":"SUM($O$2:O577)","v":-608},{"$f":"MAX($L$2:L577)","v":18},-2]
[null,null,null,null,null,null,null,577,71570,71570,false,2,{"$f":"SUM($O$2:O578)","v":-606},{"$f":"MAX($L$2:L578)","v":18},2]
[null,null,null,null,null,null,null,578,{"$f":"ROUND(RAND()*(1500000-1),0)","v":760704},760704,{"$f":"IF(I579<=$E$10,C587)","v":false},{"$f":"IF(I579>=$F$2,$C$2,(IF(I579>=$F$3,$C$3,IF(I579>=$F$4,$C$4,IF(I579>=$F$5,$C$5,IF(I579>=$F$6,$C$6,IF(I579>=$F$7,$C$7,IF(I579>=$F$8,$C$8,IF(I579>=$F$9,$C$9,IF(I579>=0,999))))))))))","v":-2},{"$f":"SUM($O$2:O579)","v":-608},{"$f":"MAX($L$2:L579)","v":18},{"$f":"IF(K579=FALSE,L579,C587)","v":-2}]
[null,null,null,null,null,null,null,579,836693,836693,false,-2,{"$f":"SUM($O$2:O580)","v":-610},{"$f":"MAX($L$2:L580)","v":18},-2]
[null,null,null,null,null,null,null,580,412370,{"$f":"IF($J$1<2,I581)","v":412370},false,-2,{"$f":"SUM($O$2:O581)","v":-612},{"$f":"MAX($L$2:L581)","v":18},-2]
[null,null,null,null,null,null,null,581,10894,10894,false,18,{"$f":"SUM($O$2:O582)","v":-594},{"$f":"MAX($L$2:L582)","v":18},18]
[null,null,null,null,null,null,null,582,1064802,1064802,false,-2,{"$f":"SUM($O$2:O583)","v":-596},{"$f":"MAX($L$2:L583)","v":18},-2]
[null,null,null,null,null,null,null,583,1023925,1023925,false,-2,{"$f":"SUM($O$2:O584)","v":-598},{"$f":"MAX($L$2:L584)","v":18},-2]
[null,null,null,null,null,null,null,584,394736,394736,false,-2,{"$f":"SUM($O$2:O585)","v":-600},{"$f":"MAX($L$2:L585)","v":18},-2]
[null,null,null,null,null,null,null,585,3514,3514,false,18,{"$f":"SUM($O$2:O586)","v":-582},{"$f":"MAX($L$2:L586)","v":18},18]
[null,null,null,null,null,null,null,586,283239,283239,false,0,{"$f":"SUM($O$2:O587)","v":-582},{"$f":"MAX($L$2:L587)","v":18},0]
[null,null,null,null,null,null,null,587,124300,124300,false,2,{"$f":"SUM($O$2:O588)","v":-580},{"$f":"MAX($L$2:L588)","v":18},2]
[null,null,null,null,null,null,null,588,463338,463338,false,-2,{"$f":"SUM($O$2:O589)","v":-582},{"$f":"MAX($L$2:L589)","v":18},-2]
[null,null,null,null,null,null,null,589,1163487,1163487,false,-2,{"$f":"SUM($O$2:O590)","v":-584},{"$f":"MAX($L$2:L590)","v":18},-2]
[null,null,null,null,null,null,null,590,676214,676214,false,-2,{"$f":"SUM($O$2:O591)","v":-586},{"$f":"MAX($L$2:L591)","v":18},-2]
[null,null,null,null,null,null,null,591,844172,844172,false,-2,{"$f":"SUM($O$2:O592)","v":-588},{"$f":"MAX($L$2:L592)","v":18},-2]
[null,null,null,null,null,null,null,592,535590,535590,false,-2,{"$f":"SUM($O$2:O593)","v":-590},{"$f":"MAX($L$2:L593)","v":18},-2]
[null,null,null,null,null,null,null,593,234313,234313,false,2,{"$f":"SUM($O$2:O594)","v":-588},{"$f":"MAX($L$2:L594)","v":18},2]
[null,null,null,null,null,null,null,594,603338,603338,false,-2,{"$f":"SUM($O$2:O595)","v":-590},{"$f":"MAX($L$2:L595)","v":18},-2]
[null,null,null,null,null,null,null,595,715387,715387,false,-2,{"$f":"SUM($O$2:O596)","v":-592},{"$f":"MAX($L$2:L596)","v":18},-2]
[null,null,null,null,null,null,null,596,1270286,1270286,false,-2,{"$f":"SUM($O$2:O597)","v":-594},{"$f":"MAX($L$2:L597)","v":18},-2]
[null,null,null,null,null,null,null,597,874428,874428,false,-2,{"$f":"SUM($O$2:O598)","v":-596},{"$f":"MAX($L$2:L598)","v":18},-2]
[null,null,null,null,null,null,null,598,701583,701583,false,-2,{"$f":"SUM($O$2:O599)","v":-598},{"$f":"MAX($L$2:L599)","v":18},-2]
[null,null,null,null,null,null,null,599,116395,116395,false,2,{"$f":"SUM($O$2:O600)","v":-596},{"$f":"MAX($L$2:L600)","v":18},2]
[null,null,null,null,null,null,null,600,374217,374217,false,-2,{"$f":"SUM($O$2:O601)","v":-598},{"$f":"MAX($L$2:L601)","v":18},-2]
[null,null,null,null,null,null,null,601,875486,875486,false,-2,{"$f":"SUM($O$2:O602)","v":-600},{"$f":"MAX($L$2:L602)","v":18},-2]
[null,null,null,null,null,null,null,602,45735,45735,false,8,{"$f":"SUM($O$2:O603)","v":-592},{"$f":"MAX($L$2:L603)","v":18},8]
[null,null,null,null,null,null,null,603,590999,590999,false,-2,{"$f":"SUM($O$2:O604)","v":-594},{"$f":"MAX($L$2:L604)","v":18},-2]
[null,null,null,null,null,null,null,604,789997,789997,false,-2,{"$f":"SUM($O$2:O605)","v":-596},{"$f":"MAX($L$2:L605)","v":18},-2]
[null,null,null,null,null,null,null,605,1427758,1427758,false,-2,{"$f":"SUM($O$2:O606)","v":-598},{"$f":"MAX($L$2:L606)","v":18},-2]
[null,null,null,null,null,null,null,606,1180281,1180281,false,-2,{"$f":"SUM($O$2:O607)","v":-600},{"$f":"MAX($L$2:L607)","v":18},-2]
[null,null,null,null,null,null,null,607,552991,552991,false,-2,{"$f":"SUM($O$2:O608)","v":-602},{"$f":"MAX($L$2:L608)","v":18},-2]
[null,null,null,null,null,null,null,608,666980,666980,false,-2,{"$f":"SUM($O$2:O609)","v":-604},{"$f":"MAX($L$2:L609)","v":18},-2]
[null,null,null,null,null,null,null,609,178539,178539,false,2,{"$f":"SUM($O$2:O610)","v":-602},{"$f":"MAX($L$2:L610)","v":18},2]
[null,null,null,null,null,null,null,610,675802,675802,false,-2,{"$f":"SUM($O$2:O611)","v":-604},{"$f":"MAX($L$2:L611)","v":18},-2]
[null,null,null,null,null,null,null,611,130414,130414,false,2,{"$f":"SUM($O$2:O612)","v":-602},{"$f":"MAX($L$2:L612)","v":18},2]
[null,null,null,null,null,null,null,612,648250,648250,false,-2,{"$f":"SUM($O$2:O613)","v":-604},{"$f":"MAX($L$2:L613)","v":18},-2]
[null,null,null,null,null,null,null,613,1384774,1384774,false,-2,{"$f":"SUM($O$2:O614)","v":-606},{"$f":"MAX($L$2:L614)","v":18},-2]
[null,null,null,null,null,null,null,614,680335,680335,false,-2,{"$f":"SUM($O$2:O615)","v":-608},{"$f":"MAX($L$2:L615)","v":18},-2]
[null,null,null,null,null,null,null,615,711494,711494,false,-2,{"$f":"SUM($O$2:O616)","v":-610},{"$f":"MAX($L$2:L616)","v":18},-2]
[null,null,null,null,null,null,null,616,971340,971340,false,-2,{"$f":"SUM($O$2:O617)","v":-612},{"$f":"MAX($L$2:L617)","v":18},-2]
[null,null,null,null,null,null,null,617,1371830,1371830,false,-2,{"$f":"SUM($O$2:O618)","v":-614},{"$f":"MAX($L$2:L618)","v":18},-2]
[null,null,null,null,null,null,null,618,1251559,1251559,false,-2,{"$f":"SUM($O$2:O619)","v":-616},{"$f":"MAX($L$2:L619)","v":18},-2]
[null,null,null,null,null,null,null,619,1475857,1475857,false,-2,{"$f":"SUM($O$2:O620)","v":-618},{"$f":"MAX($L$2:L620)","v":18},-2]
[null,null,null,null,null,null,null,620,589115,589115,false,-2,{"$f":"SUM($O$2:O621)","v":-620},{"$f":"MAX($L$2:L621)","v":18},-2]
[null,null,null,null,null,null,null,621,61003,61003,false,8,{"$f":"SUM($O$2:O622)","v":-612},{"$f":"MAX($L$2:L622)","v":18},8]
[null,null,null,null,null,null,null,622,1127058,1127058,false,-2,{"$f":"SUM($O$2:O623)","v":-614},{"$f":"MAX($L$2:L623)","v":18},-2]
[null,null,null,null,null,null,null,623,575317,575317,false,-2,{"$f":"SUM($O$2:O624)","v":-616},{"$f":"MAX($L$2:L624)","v":18},-2]
[null,null,null,null,null,null,null,624,497235,497235,false,-2,{"$f":"SUM($O$2:O625)","v":-618},{"$f":"MAX($L$2:L625)","v":18},-2]
[null,null,null,null,null,null,null,625,496444,496444,false,-2,{"$f":"SUM($O$2:O626)","v":-620},{"$f":"MAX($L$2:L626)","v":18},-2]
[null,null,null,null,null,null,null,626,1297646,1297646,false,-2,{"$f":"SUM($O$2:O627)","v":-622},{"$f":"MAX($L$2:L627)","v":18},-2]
[null,null,null,null,null,null,null,627,1186839,1186839,false,-2,{"$f":"SUM($O$2:O628)","v":-624},{"$f":"MAX($L$2:L628)","v":18},-2]
[null,null,null,null,null,null,null,628,923057,923057,false,-2,{"$f":"SUM($O$2:O629)","v":-626},{"$f":"MAX($L$2:L629)","v":18},-2]
[null,null,null,null,null,null,null,629,468244,468244,false,-2,{"$f":"SUM($O$2:O630)","v":-628},{"$f":"MAX($L$2:L630)","v":18},-2]
[null,null,null,null,null,null,null,630,287973,287973,false,0,{"$f":"SUM($O$2:O631)","v":-628},{"$f":"MAX($L$2:L631)","v":18},0]
[null,null,null,null,null,null,null,631,753705,753705,false,-2,{"$f":"SUM($O$2:O632)","v":-630},{"$f":"MAX($L$2:L632)","v":18},-2]
[null,null,null,null,null,null,null,632,469782,469782,false,-2,{"$f":"SUM($O$2:O633)","v":-632},{"$f":"MAX($L$2:L633)","v":18},-2]
[null,null,null,null,null,null,null,633,1361899,1361899,false,-2,{"$f":"SUM($O$2:O634)","v":-634},{"$f":"MAX($L$2:L634)","v":18},-2]
[null,null,null,null,null,null,null,634,328650,328650,false,0,{"$f":"SUM($O$2:O635)","v":-634},{"$f":"MAX($L$2:L635)","v":18},0]
[null,null,null,null,null,null,null,635,1348149,1348149,false,-2,{"$f":"SUM($O$2:O636)","v":-636},{"$f":"MAX($L$2:L636)","v":18},-2]
[null,null,null,null,null,null,null,636,836489,836489,false,-2,{"$f":"SUM($O$2:O637)","v":-638},{"$f":"MAX($L$2:L637)","v":18},-2]
[null,null,null,null,null,null,null,637,1147095,1147095,false,-2,{"$f":"SUM($O$2:O638)","v":-640},{"$f":"MAX($L$2:L638)","v":18},-2]
[null,null,null,null,null,null,null,638,1306576,1306576,false,-2,{"$f":"SUM($O$2:O639)","v":-642},{"$f":"MAX($L$2:L639)","v":18},-2]
[null,null,null,null,null,null,null,639,713479,713479,false,-2,{"$f":"SUM($O$2:O640)","v":-644},{"$f":"MAX($L$2:L640)","v":18},-2]
[null,null,null,null,null,null,null,640,360702,360702,false,0,{"$f":"SUM($O$2:O641)","v":-644},{"$f":"MAX($L$2:L641)","v":18},0]
[null,null,null,null,null,null,null,641,827685,827685,false,-2,{"$f":"SUM($O$2:O642)","v":-646},{"$f":"MAX($L$2:L642)","v":18},-2]
[null,null,null,null,null,null,null,642,{"$f":"ROUND(RAND()*(1500000-1),0)","v":1155626},1155626,{"$f":"IF(I643<=$E$10,C651)","v":false},{"$f":"IF(I643>=$F$2,$C$2,(IF(I643>=$F$3,$C$3,IF(I643>=$F$4,$C$4,IF(I643>=$F$5,$C$5,IF(I643>=$F$6,$C$6,IF(I643>=$F$7,$C$7,IF(I643>=$F$8,$C$8,IF(I643>=$F$9,$C$9,IF(I643>=0,999))))))))))","v":-2},{"$f":"SUM($O$2:O643)","v":-648},{"$f":"MAX($L$2:L643)","v":18},{"$f":"IF(K643=FALSE,L643,C651)","v":-2}]
[null,null,null,null,null,null,null,643,1390716,1390716,false,-2,{"$f":"SUM($O$2:O644)","v":-650},{"$f":"MAX($L$2:L644)","v":18},-2]
[null,null,null,null,null,null,null,644,110043,{"$f":"IF($J$1<2,I645)","v":110043},false,2,{"$f":"SUM($O$2:O645)","v":-648},{"$f":"MAX($L$2:L645)","v":18},2]
[null,null,null,null,null,null,null,645,711987,711987,false,-2,{"$f":"SUM($O$2:O646)","v":-650},{"$f":"MAX($L$2:L646)","v":18},-2]
[null,null,null,null,null,null,null,646,1285689,1285689,false,-2,{"$f":"SUM($O$2:O647)","v":-652},{"$f":"MAX($L$2:L647)","v":18},-2]
[null,null,null,null,null,null,null,647,1121942,1121942,false,-2,{"$f":"SUM($O$2:O648)","v":-654},{"$f":"MAX($L$2:L648)","v":18},-2]
[null,null,null,null,null,null,null,648,821239,821239,false,-2,{"$f":"SUM($O$2:O649)","v":-656},{"$f":"MAX($L$2:L649)","v":18},-2]
[null,null,null,null,null,null,null,649,172185,172185,false,2,{"$f":"SUM($O$2:O650)","v":-654},{"$f":"MAX($L$2:L650)","v":18},2]
[null,null,null,null,null,null,null,650,1059388,1059388,false,-2,{"$f":"SUM($O$2:O651)","v":-656},{"$f":"MAX($L$2:L651)","v":18},-2]
[null,null,null,null,null,null,null,651,1472859,1472859,false,-2,{"$f":"SUM($O$2:O652)","v":-658},{"$f":"MAX($L$2:L652)","v":18},-2]
[null,null,null,null,null,null,null,652,918191,918191,false,-2,{"$f":"SUM($O$2:O653)","v":-660},{"$f":"MAX($L$2:L653)","v":18},-2]
[null,null,null,null,null,null,null,653,604261,604261,false,-2,{"$f":"SUM($O$2:O654)","v":-662},{"$f":"MAX($L$2:L654)","v":18},-2]
[null,null,null,null,null,null,null,654,1430298,1430298,false,-2,{"$f":"SUM($O$2:O655)","v":-664},{"$f":"MAX($L$2:L655)","v":18},-2]
[null,null,null,null,null,null,null,655,9315,9315,false,18,{"$f":"SUM($O$2:O656)","v":-646},{"$f":"MAX($L$2:L656)","v":18},18]
[null,null,null,null,null,null,null,656,1476549,1476549,false,-2,{"$f":"SUM($O$2:O657)","v":-648},{"$f":"MAX($L$2:L657)","v":18},-2]
[null,null,null,null,null,null,null,657,1234704,1234704,false,-2,{"$f":"SUM($O$2:O658)","v":-650},{"$f":"MAX($L$2:L658)","v":18},-2]
[null,null,null,null,null,null,null,658,32658,32658,false,8,{"$f":"SUM($O$2:O659)","v":-642},{"$f":"MAX($L$2:L659)","v":18},8]
[null,null,null,null,null,null,null,659,1143296,1143296,false,-2,{"$f":"SUM($O$2:O660)","v":-644},{"$f":"MAX($L$2:L660)","v":18},-2]
[null,null,null,null,null,null,null,660,1393736,1393736,false,-2,{"$f":"SUM($O$2:O661)","v":-646},{"$f":"MAX($L$2:L661)","v":18},-2]
[null,null,null,null,null,null,null,661,1015634,1015634,false,-2,{"$f":"SUM($O$2:O662)","v":-648},{"$f":"MAX($L$2:L662)","v":18},-2]
[null,null,null,null,null,null,null,662,735583,735583,false,-2,{"$f":"SUM($O$2:O663)","v":-650},{"$f":"MAX($L$2:L663)","v":18},-2]
[null,null,null,null,null,null,null,663,1214404,1214404,false,-2,{"$f":"SUM($O$2:O664)","v":-652},{"$f":"MAX($L$2:L664)","v":18},-2]
[null,null,null,null,null,null,null,664,1181470,1181470,false,-2,{"$f":"SUM($O$2:O665)","v":-654},{"$f":"MAX($L$2:L665)","v":18},-2]
[null,null,null,null,null,null,null,665,810471,810471,false,-2,{"$f":"SUM($O$2:O666)","v":-656},{"$f":"MAX($L$2:L666)","v":18},-2]
[null,null,null,null,null,null,null,666,119708,119708,false,2,{"$f":"SUM($O$2:O667)","v":-654},{"$f":"MAX($L$2:L667)","v":18},2]
[null,null,null,null,null,null,null,667,708101,708101,false,-2,{"$f":"SUM($O$2:O668)","v":-656},{"$f":"MAX($L$2:L668)","v":18},-2]
[null,null,null,null,null,null,null,668,1198846,1198846,false,-2,{"$f":"SUM($O$2:O669)","v":-658},{"$f":"MAX($L$2:L669)","v":18},-2]
[null,null,null,null,null,null,null,669,103761,103761,false,2,{"$f":"SUM($O$2:O670)","v":-656},{"$f":"MAX($L$2:L670)","v":18},2]
[null,null,null,null,null,null,null,670,213047,213047,false,2,{"$f":"SUM($O$2:O671)","v":-654},{"$f":"MAX($L$2:L671)","v":18},2]
[null,null,null,null,null,null,null,671,1441549,1441549,false,-2,{"$f":"SUM($O$2:O672)","v":-656},{"$f":"MAX($L$2:L672)","v":18},-2]
[null,null,null,null,null,null,null,672,215701,215701,false,2,{"$f":"SUM($O$2:O673)","v":-654},{"$f":"MAX($L$2:L673)","v":18},2]
[null,null,null,null,null,null,null,673,1103123,1103123,false,-2,{"$f":"SUM($O$2:O674)","v":-656},{"$f":"MAX($L$2:L674)","v":18},-2]
[null,null,null,null,null,null,null,674,1400542,1400542,false,-2,{"$f":"SUM($O$2:O675)","v":-658},{"$f":"MAX($L$2:L675)","v":18},-2]
[null,null,null,null,null,null,null,675,371314,371314,false,-2,{"$f":"SUM($O$2:O676)","v":-660},{"$f":"MAX($L$2:L676)","v":18},-2]
[null,null,null,null,null,null,null,676,239997,239997,false,2,{"$f":"SUM($O$2:O677)","v":-658},{"$f":"MAX($L$2:L677)","v":18},2]
[null,null,null,null,null,null,null,677,912157,912157,false,-2,{"$f":"SUM($O$2:O678)","v":-660},{"$f":"MAX($L$2:L678)","v":18},-2]
[null,null,null,null,null,null,null,678,1141411,1141411,false,-2,{"$f":"SUM($O$2:O679)","v":-662},{"$f":"MAX($L$2:L679)","v":18},-2]
[null,null,null,null,null,null,null,679,1027471,1027471,false,-2,{"$f":"SUM($O$2:O680)","v":-664},{"$f":"MAX($L$2:L680)","v":18},-2]
[null,null,null,null,null,null,null,680,265913,265913,false,0,{"$f":"SUM($O$2:O681)","v":-664},{"$f":"MAX($L$2:L681)","v":18},0]
[null,null,null,null,null,null,null,681,208852,208852,false,2,{"$f":"SUM($O$2:O682)","v":-662},{"$f":"MAX($L$2:L682)","v":18},2]
[null,null,null,null,null,null,null,682,670639,670639,false,-2,{"$f":"SUM($O$2:O683)","v":-664},{"$f":"MAX($L$2:L683)","v":18},-2]
[null,null,null,null,null,null,null,683,926562,926562,false,-2,{"$f":"SUM($O$2:O684)","v":-666},{"$f":"MAX($L$2:L684)","v":18},-2]
[null,null,null,null,null,null,null,684,601500,601500,false,-2,{"$f":"SUM($O$2:O685)","v":-668},{"$f":"MAX($L$2:L685)","v":18},-2]
[null,null,null,null,null,null,null,685,667018,667018,false,-2,{"$f":"SUM($O$2:O686)","v":-670},{"$f":"MAX($L$2:L686)","v":18},-2]
[null,null,null,null,null,null,null,686,172496,172496,false,2,{"$f":"SUM($O$2:O687)","v":-668},{"$f":"MAX($L$2:L687)","v":18},2]
[null,null,null,null,null,null,null,687,304087,304087,false,0,{"$f":"SUM($O$2:O688)","v":-668},{"$f":"MAX($L$2:L688)","v":18},0]
[null,null,null,null,null,null,null,688,721579,721579,false,-2,{"$f":"SUM($O$2:O689)","v":-670},{"$f":"MAX($L$2:L689)","v":18},-2]
[null,null,null,null,null,null,null,689,262419,262419,false,0,{"$f":"SUM($O$2:O690)","v":-670},{"$f":"MAX($L$2:L690)","v":18},0]
[null,null,null,null,null,null,null,690,1112121,1112121,false,-2,{"$f":"SUM($O$2:O691)","v":-672},{"$f":"MAX($L$2:L691)","v":18},-2]
[null,null,null,null,null,null,null,691,794351,794351,false,-2,{"$f":"SUM($O$2:O692)","v":-674},{"$f":"MAX($L$2:L692)","v":18},-2]
[null,null,null,null,null,null,null,692,394911,394911,false,-2,{"$f":"SUM($O$2:O693)","v":-676},{"$f":"MAX($L$2:L693)","v":18},-2]
[null,null,null,null,null,null,null,693,366477,366477,false,-2,{"$f":"SUM($O$2:O694)","v":-678},{"$f":"MAX($L$2:L694)","v":18},-2]
[null,null,null,null,null,null,null,694,898464,898464,false,-2,{"$f":"SUM($O$2:O695)","v":-680},{"$f":"MAX($L$2:L695)","v":18},-2]
[null,null,null,null,null,null,null,695,188414,188414,false,2,{"$f":"SUM($O$2:O696)","v":-678},{"$f":"MAX($L$2:L696)","v":18},2]
[null,null,null,null,null,null,null,696,936501,936501,false,-2,{"$f":"SUM($O$2:O697)","v":-680},{"$f":"MAX($L$2:L697)","v":18},-2]
[null,null,null,null,null,null,null,697,334432,334432,false,0,{"$f":"SUM($O$2:O698)","v":-680},{"$f":"MAX($L$2:L698)","v":18},0]
[null,null,null,null,null,null,null,698,1449087,1449087,false,-2,{"$f":"SUM($O$2:O699)","v":-682},{"$f":"MAX($L$2:L699)","v":18},-2]
[null,null,null,null,null,null,null,699,1165301,1165301,false,-2,{"$f":"SUM($O$2:O700)","v":-684},{"$f":"MAX($L$2:L700)","v":18},-2]
[null,null,null,null,null,null,null,700,776455,776455,false,-2,{"$f":"SUM($O$2:O701)","v":-686},{"$f":"MAX($L$2:L701)","v":18},-2]
[null,null,null,null,null,null,null,701,717727,717727,false,-2,{"$f":"SUM($O$2:O702)","v":-688},{"$f":"MAX($L$2:L702)","v":18},-2]
[null,null,null,null,null,null,null,702,469333,469333,false,-2,{"$f":"SUM($O$2:O703)","v":-690},{"$f":"MAX($L$2:L703)","v":18},-2]
[null,null,null,null,null,null,null,703,1342526,1342526,false,-2,{"$f":"SUM($O$2:O704)","v":-692},{"$f":"MAX($L$2:L704)","v":18},-2]
[null,null,null,null,null,null,null,704,1418265,1418265,false,-2,{"$f":"SUM($O$2:O705)","v":-694},{"$f":"MAX($L$2:L705)","v":18},-2]
[null,null,null,null,null,null,null,705,459961,459961,false,-2,{"$f":"SUM($O$2:O706)","v":-696},{"$f":"MAX($L$2:L706)","v":18},-2]
[null,null,null,null,null,null,null,706,{"$f":"ROUND(RAND()*(1500000-1),0)","v":715220},715220,{"$f":"IF(I707<=$E$10,C715)","v":false},{"$f":"IF(I707>=$F$2,$C$2,(IF(I707>=$F$3,$C$3,IF(I707>=$F$4,$C$4,IF(I707>=$F$5,$C$5,IF(I707>=$F$6,$C$6,IF(I707>=$F$7,$C$7,IF(I707>=$F$8,$C$8,IF(I707>=$F$9,$C$9,IF(I707>=0,999))))))))))","v":-2},{"$f":"SUM($O$2:O707)","v":-698},{"$f":"MAX($L$2:L707)","v":18},{"$f":"IF(K707=FALSE,L707,C715)","v":-2}]
[null,null,null,null,null,null,null,707,393216,393216,false,-2,{"$f":"SUM($O$2:O708)","v":-700},{"$f":"MAX($L$2:L708)","v":18},-2]
[null,null,null,null,null,null,null,708,593250,{"$f":"IF($J$1<2,I709)","v":593250},false,-2,{"$f":"SUM($O$2:O709)","v":-702},{"$f":"MAX($L$2:L709)","v":18},-2]
[null,null,null,null,null,null,null,709,1226074,1226074,false,-2,{"$f":"SUM($O$2:O710)","v":-704},{"$f":"MAX($L$2:L710)","v":18},-2]
[null,null,null,null,null,null,null,710,743342,743342,false,-2,{"$f":"SUM($O$2:O711)","v":-706},{"$f":"MAX($L$2:L711)","v":18},-2]
[null,null,null,null,null,null,null,711,966664,966664,false,-2,{"$f":"SUM($O$2:O712)","v":-708},{"$f":"MAX($L$2:L712)","v":18},-2]
[null,null,null,null,null,null,null,712,602163,602163,false,-2,{"$f":"SUM($O$2:O713)","v":-710},{"$f":"MAX($L$2:L713)","v":18},-2]
[null,null,null,null,null,null,null,713,896250,896250,false,-2,{"$f":"SUM($O$2:O714)","v":-712},{"$f":"MAX($L$2:L714)","v":18},-2]
[null,null,null,null,null,null,null,714,656510,656510,false,-2,{"$f":"SUM($O$2:O715)","v":-714},{"$f":"MAX($L$2:L715)","v":18},-2]
[null,null,null,null,null,null,null,715,283216,283216,false,0,{"$f":"SUM($O$2:O716)","v":-714},{"$f":"MAX($L$2:L716)","v":18},0]
[null,null,null,null,null,null,null,716,1413149,1413149,false,-2,{"$f":"SUM($O$2:O717)","v":-716},{"$f":"MAX($L$2:L717)","v":18},-2]
[null,null,null,null,null,null,null,717,875227,875227,false,-2,{"$f":"SUM($O$2:O718)","v":-718},{"$f":"MAX($L$2:L718)","v":18},-2]
[null,null,null,null,null,null,null,718,1095637,1095637,false,-2,{"$f":"SUM($O$2:O719)","v":-720},{"$f":"MAX($L$2:L719)","v":18},-2]
[null,null,null,null,null,null,null,719,1450535,1450535,false,-2,{"$f":"SUM($O$2:O720)","v":-722},{"$f":"MAX($L$2:L720)","v":18},-2]
[null,null,null,null,null,null,null,720,1065799,1065799,false,-2,{"$f":"SUM($O$2:O721)","v":-724},{"$f":"MAX($L$2:L721)","v":18},-2]
[null,null,null,null,null,null,null,721,744281,744281,false,-2,{"$f":"SUM($O$2:O722)","v":-726},{"$f":"MAX($L$2:L722)","v":18},-2]
[null,null,null,null,null,null,null,722,721549,721549,false,-2,{"$f":"SUM($O$2:O723)","v":-728},{"$f":"MAX($L$2:L723)","v":18},-2]
[null,null,null,null,null,null,null,723,1227880,1227880,false,-2,{"$f":"SUM($O$2:O724)","v":-730},{"$f":"MAX($L$2:L724)","v":18},-2]
[null,null,null,null,null,null,null,724,1248925,1248925,false,-2,{"$f":"SUM($O$2:O725)","v":-732},{"$f":"MAX($L$2:L725)","v":18},-2]
[null,null,null,null,null,null,null,725,973054,973054,false,-2,{"$f":"SUM($O$2:O726)","v":-734},{"$f":"MAX($L$2:L726)","v":18},-2]
[null,null,null,null,null,null,null,726,1172062,1172062,false,-2,{"$f":"SUM($O$2:O727)","v":-736},{"$f":"MAX($L$2:L727)","v":18},-2]
[null,null,null,null,null,null,null,727,750412,750412,false,-2,{"$f":"SUM($O$2:O728)","v":-738},{"$f":"MAX($L$2:L728)","v":18},-2]
[null,null,null,null,null,null,null,728,732040,732040,false,-2,{"$f":"SUM($O$2:O729)","v":-740},{"$f":"MAX($L$2:L729)","v":18},-2]
[null,null,null,null,null,null,null,729,618394,618394,false,-2,{"$f":"SUM($O$2:O730)","v":-742},{"$f":"MAX($L$2:L730)","v":18},-2]
[null,null,null,null,null,null,null,730,798517,798517,false,-2,{"$f":"SUM($O$2:O731)","v":-744},{"$f":"MAX($L$2:L731)","v":18},-2]
[null,null,null,null,null,null,null,731,300791,300791,false,0,{"$f":"SUM($O$2:O732)","v":-744},{"$f":"MAX($L$2:L732)","v":18},0]
[null,null,null,null,null,null,null,732,1040132,1040132,false,-2,{"$f":"SUM($O$2:O733)","v":-746},{"$f":"MAX($L$2:L733)","v":18},-2]
[null,null,null,null,null,null,null,733,1399756,1399756,false,-2,{"$f":"SUM($O$2:O734)","v":-748},{"$f":"MAX($L$2:L734)","v":18},-2]
[null,null,null,null,null,null,null,734,1010507,1010507,false,-2,{"$f":"SUM($O$2:O735)","v":-750},{"$f":"MAX($L$2:L735)","v":18},-2]
[null,null,null,null,null,null,null,735,855339,855339,false,-2,{"$f":"SUM($O$2:O736)","v":-752},{"$f":"MAX($L$2:L736)","v":18},-2]
[null,null,null,null,null,null,null,736,742701,742701,false,-2,{"$f":"SUM($O$2:O737)","v":-754},{"$f":"MAX($L$2:L737)","v":18},-2]
[null,null,null,null,null,null,null,737,819558,819558,false,-2,{"$f":"SUM($O$2:O738)","v":-756},{"$f":"MAX($L$2:L738)","v":18},-2]
[null,null,null,null,null,null,null,738,1302807,1302807,false,-2,{"$f":"SUM($O$2:O739)","v":-758},{"$f":"MAX($L$2:L739)","v":18},-2]
[null,null,null,null,null,null,null,739,835583,835583,false,-2,{"$f":"SUM($O$2:O740)","v":-760},{"$f":"MAX($L$2:L740)","v":18},-2]
[null,null,null,null,null,null,null,740,1454301,1454301,false,-2,{"$f":"SUM($O$2:O741)","v":-762},{"$f":"MAX($L$2:L741)","v":18},-2]
[null,null,null,null,null,null,null,741,451225,451225,false,-2,{"$f":"SUM($O$2:O742)","v":-764},{"$f":"MAX($L$2:L742)","v":18},-2]
[null,null,null,null,null,null,null,742,498073,498073,false,-2,{"$f":"SUM($O$2:O743)","v":-766},{"$f":"MAX($L$2:L743)","v":18},-2]
[null,null,null,null,null,null,null,743,1472369,1472369,false,-2,{"$f":"SUM($O$2:O744)","v":-768},{"$f":"MAX($L$2:L744)","v":18},-2]
[null,null,null,null,null,null,null,744,173647,173647,false,2,{"$f":"SUM($O$2:O745)","v":-766},{"$f":"MAX($L$2:L745)","v":18},2]
[null,null,null,null,null,null,null,745,1142528,1142528,false,-2,{"$f":"SUM($O$2:O746)","v":-768},{"$f":"MAX($L$2:L746)","v":18},-2]
[null,null,null,null,null,null,null,746,634375,634375,false,-2,{"$f":"SUM($O$2:O747)","v":-770},{"$f":"MAX($L$2:L747)","v":18},-2]
[null,null,null,null,null,null,null,747,1081993,1081993,false,-2,{"$f":"SUM($O$2:O748)","v":-772},{"$f":"MAX($L$2:L748)","v":18},-2]
[null,null,null,null,null,null,null,748,994389,994389,false,-2,{"$f":"SUM($O$2:O749)","v":-774},{"$f":"MAX($L$2:L749)","v":18},-2]
[null,null,null,null,null,null,null,749,664771,664771,false,-2,{"$f":"SUM($O$2:O750)","v":-776},{"$f":"MAX($L$2:L750)","v":18},-2]
[null,null,null,null,null,null,null,750,288498,288498,false,0,{"$f":"SUM($O$2:O751)","v":-776},{"$f":"MAX($L$2:L751)","v":18},0]
[null,null,null,null,null,null,null,751,282700,282700,false,0,{"$f":"SUM($O$2:O752)","v":-776},{"$f":"MAX($L$2:L752)","v":18},0]
[null,null,null,null,null,null,null,752,177416,177416,false,2,{"$f":"SUM($O$2:O753)","v":-774},{"$f":"MAX($L$2:L753)","v":18},2]
[null,null,null,null,null,null,null,753,382948,382948,false,-2,{"$f":"SUM($O$2:O754)","v":-776},{"$f":"MAX($L$2:L754)","v":18},-2]
[null,null,null,null,null,null,null,754,90157,90157,false,2,{"$f":"SUM($O$2:O755)","v":-774},{"$f":"MAX($L$2:L755)","v":18},2]
[null,null,null,null,null,null,null,755,188118,188118,false,2,{"$f":"SUM($O$2:O756)","v":-772},{"$f":"MAX($L$2:L756)","v":18},2]
[null,null,null,null,null,null,null,756,206675,206675,false,2,{"$f":"SUM($O$2:O757)","v":-770},{"$f":"MAX($L$2:L757)","v":18},2]
[null,null,null,null,null,null,null,757,436011,436011,false,-2,{"$f":"SUM($O$2:O758)","v":-772},{"$f":"MAX($L$2:L758)","v":18},-2]
[null,null,null,null,null,null,null,758,135065,135065,false,2,{"$f":"SUM($O$2:O759)","v":-770},{"$f":"MAX($L$2:L759)","v":18},2]
[null,null,null,null,null,null,null,759,929559,929559,false,-2,{"$f":"SUM($O$2:O760)","v":-772},{"$f":"MAX($L$2:L760)","v":18},-2]
[null,null,null,null,null,null,null,760,1146274,1146274,false,-2,{"$f":"SUM($O$2:O761)","v":-774},{"$f":"MAX($L$2:L761)","v":18},-2]
[null,null,null,null,null,null,null,761,939214,939214,false,-2,{"$f":"SUM($O$2:O762)","v":-776},{"$f":"MAX($L$2:L762)","v":18},-2]
[null,null,null,null,null,null,null,762,439725,439725,false,-2,{"$f":"SUM($O$2:O763)","v":-778},{"$f":"MAX($L$2:L763)","v":18},-2]
[null,null,null,null,null,null,null,763,1305882,1305882,false,-2,{"$f":"SUM($O$2:O764)","v":-780},{"$f":"MAX($L$2:L764)","v":18},-2]
[null,null,null,null,null,null,null,764,1288172,1288172,false,-2,{"$f":"SUM($O$2:O765)","v":-782},{"$f":"MAX($L$2:L765)","v":18},-2]
[null,null,null,null,null,null,null,765,458621,458621,false,-2,{"$f":"SUM($O$2:O766)","v":-784},{"$f":"MAX($L$2:L766)","v":18},-2]
[null,null,null,null,null,null,null,766,344725,344725,false,0,{"$f":"SUM($O$2:O767)","v":-784},{"$f":"MAX($L$2:L767)","v":18},0]
[null,null,null,null,null,null,null,767,237577,237577,false,2,{"$f":"SUM($O$2:O768)","v":-782},{"$f":"MAX($L$2:L768)","v":18},2]
[null,null,null,null,null,null,null,768,1414932,1414932,false,-2,{"$f":"SUM($O$2:O769)","v":-784},{"$f":"MAX($L$2:L769)","v":18},-2]
[null,null,null,null,null,null,null,769,1141998,1141998,false,-2,{"$f":"SUM($O$2:O770)","v":-786},{"$f":"MAX($L$2:L770)","v":18},-2]
[null,null,null,null,null,null,null,770,{"$f":"ROUND(RAND()*(1500000-1),0)","v":299604},299604,{"$f":"IF(I771<=$E$10,C779)","v":false},{"$f":"IF(I771>=$F$2,$C$2,(IF(I771>=$F$3,$C$3,IF(I771>=$F$4,$C$4,IF(I771>=$F$5,$C$5,IF(I771>=$F$6,$C$6,IF(I771>=$F$7,$C$7,IF(I771>=$F$8,$C$8,IF(I771>=$F$9,$C$9,IF(I771>=0,999))))))))))","v":0},{"$f":"SUM($O$2:O771)","v":-786},{"$f":"MAX($L$2:L771)","v":18},{"$f":"IF(K771=FALSE,L771,C779)","v":0}]
[null,null,null,null,null,null,null,771,1078832,1078832,false,-2,{"$f":"SUM($O$2:O772)","v":-788},{"$f":"MAX($L$2:L772)","v":18},-2]
[null,null,null,null,null,null,null,772,88308,{"$f":"IF($J$1<2,I773)","v":88308},false,2,{"$f":"SUM($O$2:O773)","v":-786},{"$f":"MAX($L$2:L773)","v":18},2]
[null,null,null,null,null,null,null,773,225085,225085,false,2,{"$f":"SUM($O$2:O774)","v":-784},{"$f":"MAX($L$2:L774)","v":18},2]
[null,null,null,null,null,null,null,774,1058007,1058007,false,-2,{"$f":"SUM($O$2:O775)","v":-786},{"$f":"MAX($L$2:L775)","v":18},-2]
[null,null,null,null,null,null,null,775,45578,45578,false,8,{"$f":"SUM($O$2:O776)","v":-778},{"$f":"MAX($L$2:L776)","v":18},8]
[null,null,null,null,null,null,null,776,727280,727280,false,-2,{"$f":"SUM($O$2:O777)","v":-780},{"$f":"MAX($L$2:L777)","v":18},-2]
[null,null,null,null,null,null,null,777,1491630,1491630,false,-2,{"$f":"SUM($O$2:O778)","v":-782},{"$f":"MAX($L$2:L778)","v":18},-2]
[null,null,null,null,null,null,null,778,1099651,1099651,false,-2,{"$f":"SUM($O$2:O779)","v":-784},{"$f":"MAX($L$2:L779)","v":18},-2]
[null,null,null,null,null,null,null,779,564453,564453,false,-2,{"$f":"SUM($O$2:O780)","v":-786},{"$f":"MAX($L$2:L780)","v":18},-2]
[null,null,null,null,null,null,null,780,283775,283775,false,0,{"$f":"SUM($O$2:O781)","v":-786},{"$f":"MAX($L$2:L781)","v":18},0]
[null,null,null,null,null,null,null,781,716745,716745,false,-2,{"$f":"SUM($O$2:O782)","v":-788},{"$f":"MAX($L$2:L782)","v":18},-2]
[null,null,null,null,null,null,null,782,418518,418518,false,-2,{"$f":"SUM($O$2:O783)","v":-790},{"$f":"MAX($L$2:L783)","v":18},-2]
[null,null,null,null,null,null,null,783,450469,450469,false,-2,{"$f":"SUM($O$2:O784)","v":-792},{"$f":"MAX($L$2:L784)","v":18},-2]
[null,null,null,null,null,null,null,784,316627,316627,false,0,{"$f":"SUM($O$2:O785)","v":-792},{"$f":"MAX($L$2:L785)","v":18},0]
[null,null,null,null,null,null,null,785,1465167,1465167,false,-2,{"$f":"SUM($O$2:O786)","v":-794},{"$f":"MAX($L$2:L786)","v":18},-2]
[null,null,null,null,null,null,null,786,550162,550162,false,-2,{"$f":"SUM($O$2:O787)","v":-796},{"$f":"MAX($L$2:L787)","v":18},-2]
[null,null,null,null,null,null,null,787,1490153,1490153,false,-2,{"$f":"SUM($O$2:O788)","v":-798},{"$f":"MAX($L$2:L788)","v":18},-2]
[null,null,null,null,null,null,null,788,200178,200178,false,2,{"$f":"SUM($O$2:O789)","v":-796},{"$f":"MAX($L$2:L789)","v":18},2]
[null,null,null,null,null,null,null,789,763093,763093,false,-2,{"$f":"SUM($O$2:O790)","v":-798},{"$f":"MAX($L$2:L790)","v":18},-2]
[null,null,null,null,null,null,null,790,393747,393747,false,-2,{"$f":"SUM($O$2:O791)","v":-800},{"$f":"MAX($L$2:L791)","v":18},-2]
[null,null,null,null,null,null,null,791,1267065,1267065,false,-2,{"$f":"SUM($O$2:O792)","v":-802},{"$f":"MAX($L$2:L792)","v":18},-2]
[null,null,null,null,null,null,null,792,27205,27205,false,8,{"$f":"SUM($O$2:O793)","v":-794},{"$f":"MAX($L$2:L793)","v":18},8]
[null,null,null,null,null,null,null,793,639576,639576,false,-2,{"$f":"SUM($O$2:O794)","v":-796},{"$f":"MAX($L$2:L794)","v":18},-2]
[null,null,null,null,null,null,null,794,1239582,1239582,false,-2,{"$f":"SUM($O$2:O795)","v":-798},{"$f":"MAX($L$2:L795)","v":18},-2]
[null,null,null,null,null,null,null,795,712858,712858,false,-2,{"$f":"SUM($O$2:O796)","v":-800},{"$f":"MAX($L$2:L796)","v":18},-2]
[null,null,null,null,null,null,null,796,140927,140927,false,2,{"$f":"SUM($O$2:O797)","v":-798},{"$f":"MAX($L$2:L797)","v":18},2]
[null,null,null,null,null,null,null,797,1489681,1489681,false,-2,{"$f":"SUM($O$2:O798)","v":-800},{"$f":"MAX($L$2:L798)","v":18},-2]
[null,null,null,null,null,null,null,798,672944,672944,false,-2,{"$f":"SUM($O$2:O799)","v":-802},{"$f":"MAX($L$2:L799)","v":18},-2]
[null,null,null,null,null,null,null,799,1223443,1223443,false,-2,{"$f":"SUM($O$2:O800)","v":-804},{"$f":"MAX($L$2:L800)","v":18},-2]
[null,null,null,null,null,null,null,800,886970,886970,false,-2,{"$f":"SUM($O$2:O801)","v":-806},{"$f":"MAX($L$2:L801)","v":18},-2]
[null,null,null,null,null,null,null,801,802992,802992,false,-2,{"$f":"SUM($O$2:O802)","v":-808},{"$f":"MAX($L$2:L802)","v":18},-2]
[null,null,null,null,null,null,null,802,754734,754734,false,-2,{"$f":"SUM($O$2:O803)","v":-810},{"$f":"MAX($L$2:L803)","v":18},-2]
[null,null,null,null,null,null,null,803,914775,914775,false,-2,{"$f":"SUM($O$2:O804)","v":-812},{"$f":"MAX($L$2:L804)","v":18},-2]
[null,null,null,null,null,null,null,804,332371,332371,false,0,{"$f":"SUM($O$2:O805)","v":-812},{"$f":"MAX($L$2:L805)","v":18},0]
[null,null,null,null,null,null,null,805,401314,401314,false,-2,{"$f":"SUM($O$2:O806)","v":-814},{"$f":"MAX($L$2:L806)","v":18},-2]
[null,null,null,null,null,null,null,806,182392,182392,false,2,{"$f":"SUM($O$2:O807)","v":-812},{"$f":"MAX($L$2:L807)","v":18},2]
[null,null,null,null,null,null,null,807,659994,659994,false,-2,{"$f":"SUM($O$2:O808)","v":-814},{"$f":"MAX($L$2:L808)","v":18},-2]
[null,null,null,null,null,null,null,808,792548,792548,false,-2,{"$f":"SUM($O$2:O809)","v":-816},{"$f":"MAX($L$2:L809)","v":18},-2]
[null,null,null,null,null,null,null,809,1037266,1037266,false,-2,{"$f":"SUM($O$2:O810)","v":-818},{"$f":"MAX($L$2:L810)","v":18},-2]
[null,null,null,null,null,null,null,810,1375051,1375051,false,-2,{"$f":"SUM($O$2:O811)","v":-820},{"$f":"MAX($L$2:L811)","v":18},-2]
[null,null,null,null,null,null,null,811,373445,373445,false,-2,{"$f":"SUM($O$2:O812)","v":-822},{"$f":"MAX($L$2:L812)","v":18},-2]
[null,null,null,null,null,null,null,812,521315,521315,false,-2,{"$f":"SUM($O$2:O813)","v":-824},{"$f":"MAX($L$2:L813)","v":18},-2]
[null,null,null,null,null,null,null,813,358467,358467,false,0,{"$f":"SUM($O$2:O814)","v":-824},{"$f":"MAX($L$2:L814)","v":18},0]
[null,null,null,null,null,null,null,814,391008,391008,false,-2,{"$f":"SUM($O$2:O815)","v":-826},{"$f":"MAX($L$2:L815)","v":18},-2]
[null,null,null,null,null,null,null,815,611851,611851,false,-2,{"$f":"SUM($O$2:O816)","v":-828},{"$f":"MAX($L$2:L816)","v":18},-2]
[null,null,null,null,null,null,null,816,1462334,1462334,false,-2,{"$f":"SUM($O$2:O817)","v":-830},{"$f":"MAX($L$2:L817)","v":18},-2]
[null,null,null,null,null,null,null,817,729052,729052,false,-2,{"$f":"SUM($O$2:O818)","v":-832},{"$f":"MAX($L$2:L818)","v":18},-2]
[null,null,null,null,null,null,null,818,1221269,1221269,false,-2,{"$f":"SUM($O$2:O819)","v":-834},{"$f":"MAX($L$2:L819)","v":18},-2]
[null,null,null,null,null,null,null,819,1361218,1361218,false,-2,{"$f":"SUM($O$2:O820)","v":-836},{"$f":"MAX($L$2:L820)","v":18},-2]
[null,null,null,null,null,null,null,820,1298737,1298737,false,-2,{"$f":"SUM($O$2:O821)","v":-838},{"$f":"MAX($L$2:L821)","v":18},-2]
[null,null,null,null,null,null,null,821,4020,4020,false,18,{"$f":"SUM($O$2:O822)","v":-820},{"$f":"MAX($L$2:L822)","v":18},18]
[null,null,null,null,null,null,null,822,1136388,1136388,false,-2,{"$f":"SUM($O$2:O823)","v":-822},{"$f":"MAX($L$2:L823)","v":18},-2]
[null,null,null,null,null,null,null,823,172278,172278,false,2,{"$f":"SUM($O$2:O824)","v":-820},{"$f":"MAX($L$2:L824)","v":18},2]
[null,null,null,null,null,null,null,824,1407948,1407948,false,-2,{"$f":"SUM($O$2:O825)","v":-822},{"$f":"MAX($L$2:L825)","v":18},-2]
[null,null,null,null,null,null,null,825,661449,661449,false,-2,{"$f":"SUM($O$2:O826)","v":-824},{"$f":"MAX($L$2:L826)","v":18},-2]
[null,null,null,null,null,null,null,826,278621,278621,false,0,{"$f":"SUM($O$2:O827)","v":-824},{"$f":"MAX($L$2:L827)","v":18},0]
[null,null,null,null,null,null,null,827,607001,607001,false,-2,{"$f":"SUM($O$2:O828)","v":-826},{"$f":"MAX($L$2:L828)","v":18},-2]
[null,null,null,null,null,null,null,828,483703,483703,false,-2,{"$f":"SUM($O$2:O829)","v":-828},{"$f":"MAX($L$2:L829)","v":18},-2]
[null,null,null,null,null,null,null,829,1170259,1170259,false,-2,{"$f":"SUM($O$2:O830)","v":-830},{"$f":"MAX($L$2:L830)","v":18},-2]
[null,null,null,null,null,null,null,830,145102,145102,false,2,{"$f":"SUM($O$2:O831)","v":-828},{"$f":"MAX($L$2:L831)","v":18},2]
[null,null,null,null,null,null,null,831,1280094,1280094,false,-2,{"$f":"SUM($O$2:O832)","v":-830},{"$f":"MAX($L$2:L832)","v":18},-2]
[null,null,null,null,null,null,null,832,1415593,1415593,false,-2,{"$f":"SUM($O$2:O833)","v":-832},{"$f":"MAX($L$2:L833)","v":18},-2]
[null,null,null,null,null,null,null,833,846124,846124,false,-2,{"$f":"SUM($O$2:O834)","v":-834},{"$f":"MAX($L$2:L834)","v":18},-2]
[null,null,null,null,null,null,null,834,{"$f":"ROUND(RAND()*(1500000-1),0)","v":142815},142815,{"$f":"IF(I835<=$E$10,C843)","v":false},{"$f":"IF(I835>=$F$2,$C$2,(IF(I835>=$F$3,$C$3,IF(I835>=$F$4,$C$4,IF(I835>=$F$5,$C$5,IF(I835>=$F$6,$C$6,IF(I835>=$F$7,$C$7,IF(I835>=$F$8,$C$8,IF(I835>=$F$9,$C$9,IF(I835>=0,999))))))))))","v":2},{"$f":"SUM($O$2:O835)","v":-832},{"$f":"MAX($L$2:L835)","v":18},{"$f":"IF(K835=FALSE,L835,C843)","v":2}]
[null,null,null,null,null,null,null,835,1141208,1141208,false,-2,{"$f":"SUM($O$2:O836)","v":-834},{"$f":"MAX($L$2:L836)","v":18},-2]
[null,null,null,null,null,null,null,836,744585,{"$f":"IF($J$1<2,I837)","v":744585},false,-2,{"$f":"SUM($O$2:O837)","v":-836},{"$f":"MAX($L$2:L837)","v":18},-2]
[null,null,null,null,null,null,null,837,1323246,1323246,false,-2,{"$f":"SUM($O$2:O838)","v":-838},{"$f":"MAX($L$2:L838)","v":18},-2]
[null,null,null,null,null,null,null,838,437517,437517,false,-2,{"$f":"SUM($O$2:O839)","v":-840},{"$f":"MAX($L$2:L839)","v":18},-2]
[null,null,null,null,null,null,null,839,932904,932904,false,-2,{"$f":"SUM($O$2:O840)","v":-842},{"$f":"MAX($L$2:L840)","v":18},-2]
[null,null,null,null,null,null,null,840,472893,472893,false,-2,{"$f":"SUM($O$2:O841)","v":-844},{"$f":"MAX($L$2:L841)","v":18},-2]
[null,null,null,null,null,null,null,841,161761,161761,false,2,{"$f":"SUM($O$2:O842)","v":-842},{"$f":"MAX($L$2:L842)","v":18},2]
[null,null,null,null,null,null,null,842,502717,502717,false,-2,{"$f":"SUM($O$2:O843)","v":-844},{"$f":"MAX($L$2:L843)","v":18},-2]
[null,null,null,null,null,null,null,843,616487,616487,false,-2,{"$f":"SUM($O$2:O844)","v":-846},{"$f":"MAX($L$2:L844)","v":18},-2]
[null,null,null,null,null,null,null,844,1447258,1447258,false,-2,{"$f":"SUM($O$2:O845)","v":-848},{"$f":"MAX($L$2:L845)","v":18},-2]
[null,null,null,null,null,null,null,845,1023244,1023244,false,-2,{"$f":"SUM($O$2:O846)","v":-850},{"$f":"MAX($L$2:L846)","v":18},-2]
[null,null,null,null,null,null,null,846,682678,682678,false,-2,{"$f":"SUM($O$2:O847)","v":-852},{"$f":"MAX($L$2:L847)","v":18},-2]
[null,null,null,null,null,null,null,847,170093,170093,false,2,{"$f":"SUM($O$2:O848)","v":-850},{"$f":"MAX($L$2:L848)","v":18},2]
[null,null,null,null,null,null,null,848,1157072,1157072,false,-2,{"$f":"SUM($O$2:O849)","v":-852},{"$f":"MAX($L$2:L849)","v":18},-2]
[null,null,null,null,null,null,null,849,1265386,1265386,false,-2,{"$f":"SUM($O$2:O850)","v":-854},{"$f":"MAX($L$2:L850)","v":18},-2]
[null,null,null,null,null,null,null,850,280705,280705,false,0,{"$f":"SUM($O$2:O851)","v":-854},{"$f":"MAX($L$2:L851)","v":18},0]
[null,null,null,null,null,null,null,851,231669,231669,false,2,{"$f":"SUM($O$2:O852)","v":-852},{"$f":"MAX($L$2:L852)","v":18},2]
[null,null,null,null,null,null,null,852,883719,883719,false,-2,{"$f":"SUM($O$2:O853)","v":-854},{"$f":"MAX($L$2:L853)","v":18},-2]
[null,null,null,null,null,null,null,853,1357015,1357015,false,-2,{"$f":"SUM($O$2:O854)","v":-856},{"$f":"MAX($L$2:L854)","v":18},-2]
[null,null,null,null,null,null,null,854,830059,830059,false,-2,{"$f":"SUM($O$2:O855)","v":-858},{"$f":"MAX($L$2:L855)","v":18},-2]
[null,null,null,null,null,null,null,855,474435,474435,false,-2,{"$f":"SUM($O$2:O856)","v":-860},{"$f":"MAX($L$2:L856)","v":18},-2]
[null,null,null,null,null,null,null,856,1320388,1320388,false,-2,{"$f":"SUM($O$2:O857)","v":-862},{"$f":"MAX($L$2:L857)","v":18},-2]
[null,null,null,null,null,null,null,857,451865,451865,false,-2,{"$f":"SUM($O$2:O858)","v":-864},{"$f":"MAX($L$2:L858)","v":18},-2]
[null,null,null,null,null,null,null,858,483922,483922,false,-2,{"$f":"SUM($O$2:O859)","v":-866},{"$f":"MAX($L$2:L859)","v":18},-2]
[null,null,null,null,null,null,null,859,151733,151733,false,2,{"$f":"SUM($O$2:O860)","v":-864},{"$f":"MAX($L$2:L860)","v":18},2]
[null,null,null,null,null,null,null,860,1024213,1024213,false,-2,{"$f":"SUM($O$2:O861)","v":-866},{"$f":"MAX($L$2:L861)","v":18},-2]
[null,null,null,null,null,null,null,861,1211708,1211708,false,-2,{"$f":"SUM($O$2:O862)","v":-868},{"$f":"MAX($L$2:L862)","v":18},-2]
[null,null,null,null,null,null,null,862,439065,439065,false,-2,{"$f":"SUM($O$2:O863)","v":-870},{"$f":"MAX($L$2:L863)","v":18},-2]
[null,null,null,null,null,null,null,863,1222322,1222322,false,-2,{"$f":"SUM($O$2:O864)","v":-872},{"$f":"MAX($L$2:L864)","v":18},-2]
[null,null,null,null,null,null,null,864,1021546,1021546,false,-2,{"$f":"SUM($O$2:O865)","v":-874},{"$f":"MAX($L$2:L865)","v":18},-2]
[null,null,null,null,null,null,null,865,830417,830417,false,-2,{"$f":"SUM($O$2:O866)","v":-876},{"$f":"MAX($L$2:L866)","v":18},-2]
[null,null,null,null,null,null,null,866,52728,52728,false,8,{"$f":"SUM($O$2:O867)","v":-868},{"$f":"MAX($L$2:L867)","v":18},8]
[null,null,null,null,null,null,null,867,1183005,1183005,false,-2,{"$f":"SUM($O$2:O868)","v":-870},{"$f":"MAX($L$2:L868)","v":18},-2]
[null,null,null,null,null,null,null,868,223222,223222,false,2,{"$f":"SUM($O$2:O869)","v":-868},{"$f":"MAX($L$2:L869)","v":18},2]
[null,null,null,null,null,null,null,869,732680,732680,false,-2,{"$f":"SUM($O$2:O870)","v":-870},{"$f":"MAX($L$2:L870)","v":18},-2]
[null,null,null,null,null,null,null,870,1402668,1402668,false,-2,{"$f":"SUM($O$2:O871)","v":-872},{"$f":"MAX($L$2:L871)","v":18},-2]
[null,null,null,null,null,null,null,871,927955,927955,false,-2,{"$f":"SUM($O$2:O872)","v":-874},{"$f":"MAX($L$2:L872)","v":18},-2]
[null,null,null,null,null,null,null,872,1490939,1490939,false,-2,{"$f":"SUM($O$2:O873)","v":-876},{"$f":"MAX($L$2:L873)","v":18},-2]
[null,null,null,null,null,null,null,873,1278584,1278584,false,-2,{"$f":"SUM($O$2:O874)","v":-878},{"$f":"MAX($L$2:L874)","v":18},-2]
[null,null,null,null,null,null,null,874,734202,734202,false,-2,{"$f":"SUM($O$2:O875)","v":-880},{"$f":"MAX($L$2:L875)","v":18},-2]
[null,null,null,null,null,null,null,875,1499036,1499036,false,-2,{"$f":"SUM($O$2:O876)","v":-882},{"$f":"MAX($L$2:L876)","v":18},-2]
[null,null,null,null,null,null,null,876,1332617,1332617,false,-2,{"$f":"SUM($O$2:O877)","v":-884},{"$f":"MAX($L$2:L877)","v":18},-2]
[null,null,null,null,null,null,null,877,439260,439260,false,-2,{"$f":"SUM($O$2:O878)","v":-886},{"$f":"MAX($L$2:L878)","v":18},-2]
[null,null,null,null,null,null,null,878,660302,660302,false,-2,{"$f":"SUM($O$2:O879)","v":-888},{"$f":"MAX($L$2:L879)","v":18},-2]
[null,null,null,null,null,null,null,879,1394153,1394153,false,-2,{"$f":"SUM($O$2:O880)","v":-890},{"$f":"MAX($L$2:L880)","v":18},-2]
[null,null,null,null,null,null,null,880,1424740,1424740,false,-2,{"$f":"SUM($O$2:O881)","v":-892},{"$f":"MAX($L$2:L881)","v":18},-2]
[null,null,null,null,null,null,null,881,1101262,1101262,false,-2,{"$f":"SUM($O$2:O882)","v":-894},{"$f":"MAX($L$2:L882)","v":18},-2]
[null,null,null,null,null,null,null,882,1216891,1216891,false,-2,{"$f":"SUM($O$2:O883)","v":-896},{"$f":"MAX($L$2:L883)","v":18},-2]
[null,null,null,null,null,null,null,883,1012071,1012071,false,-2,{"$f":"SUM($O$2:O884)","v":-898},{"$f":"MAX($L$2:L884)","v":18},-2]
[null,null,null,null,null,null,null,884,177578,177578,false,2,{"$f":"SUM($O$2:O885)","v":-896},{"$f":"MAX($L$2:L885)","v":18},2]
[null,null,null,null,null,null,null,885,368696,368696,false,-2,{"$f":"SUM($O$2:O886)","v":-898},{"$f":"MAX($L$2:L886)","v":18},-2]
[null,null,null,null,null,null,null,886,869,869,false,18,{"$f":"SUM($O$2:O887)","v":-880},{"$f":"MAX($L$2:L887)","v":18},18]
[null,null,null,null,null,null,null,887,950353,950353,false,-2,{"$f":"SUM($O$2:O888)","v":-882},{"$f":"MAX($L$2:L888)","v":18},-2]
[null,null,null,null,null,null,null,888,1478473,1478473,false,-2,{"$f":"SUM($O$2:O889)","v":-884},{"$f":"MAX($L$2:L889)","v":18},-2]
[null,null,null,null,null,null,null,889,1163032,1163032,false,-2,{"$f":"SUM($O$2:O890)","v":-886},{"$f":"MAX($L$2:L890)","v":18},-2]
[null,null,null,null,null,null,null,890,1221863,1221863,false,-2,{"$f":"SUM($O$2:O891)","v":-888},{"$f":"MAX($L$2:L891)","v":18},-2]
[null,null,null,null,null,null,null,891,417401,417401,false,-2,{"$f":"SUM($O$2:O892)","v":-890},{"$f":"MAX($L$2:L892)","v":18},-2]
[null,null,null,null,null,null,null,892,493071,493071,false,-2,{"$f":"SUM($O$2:O893)","v":-892},{"$f":"MAX($L$2:L893)","v":18},-2]
[null,null,null,null,null,null,null,893,477035,477035,false,-2,{"$f":"SUM($O$2:O894)","v":-894},{"$f":"MAX($L$2:L894)","v":18},-2]
[null,null,null,null,null,null,null,894,286135,286135,false,0,{"$f":"SUM($O$2:O895)","v":-894},{"$f":"MAX($L$2:L895)","v":18},0]
[null,null,null,null,null,null,null,895,880966,880966,false,-2,{"$f":"SUM($O$2:O896)","v":-896},{"$f":"MAX($L$2:L896)","v":18},-2]
[null,null,null,null,null,null,null,896,548766,548766,false,-2,{"$f":"SUM($O$2:O897)","v":-898},{"$f":"MAX($L$2:L897)","v":18},-2]
[null,null,null,null,null,null,null,897,673176,673176,false,-2,{"$f":"SUM($O$2:O898)","v":-900},{"$f":"MAX($L$2:L898)","v":18},-2]
[null,null,null,null,null,null,null,898,{"$f":"ROUND(RAND()*(1500000-1),0)","v":1334499},1334499,{"$f":"IF(I899<=$E$10,C907)","v":false},{"$f":"IF(I899>=$F$2,$C$2,(IF(I899>=$F$3,$C$3,IF(I899>=$F$4,$C$4,IF(I899>=$F$5,$C$5,IF(I899>=$F$6,$C$6,IF(I899>=$F$7,$C$7,IF(I899>=$F$8,$C$8,IF(I899>=$F$9,$C$9,IF(I899>=0,999))))))))))","v":-2},{"$f":"SUM($O$2:O899)","v":-902},{"$f":"MAX($L$2:L899)","v":18},{"$f":"IF(K899=FALSE,L899,C907)","v":-2}]
[null,null,null,null,null,null,null,899,49912,49912,false,8,{"$f":"SUM($O$2:O900)","v":-894},{"$f":"MAX($L$2:L900)","v":18},8]
[null,null,null,null,null,null,null,900,1328922,{"$f":"IF($J$1<2,I901)","v":1328922},false,-2,{"$f":"SUM($O$2:O901)","v":-896},{"$f":"MAX($L$2:L901)","v":18},-2]
[null,null,null,null,null,null,null,901,805212,805212,false,-2,{"$f":"SUM($O$2:O902)","v":-898},{"$f":"MAX($L$2:L902)","v":18},-2]
[null,null,null,null,null,null,null,902,543252,543252,false,-2,{"$f":"SUM($O$2:O903)","v":-900},{"$f":"MAX($L$2:L903)","v":18},-2]
[null,null,null,null,null,null,null,903,1299057,1299057,false,-2,{"$f":"SUM($O$2:O904)","v":-902},{"$f":"MAX($L$2:L904)","v":18},-2]
[null,null,null,null,null,null,null,904,1481169,1481169,false,-2,{"$f":"SUM($O$2:O905)","v":-904},{"$f":"MAX($L$2:L905)","v":18},-2]
[null,null,null,null,null,null,null,905,767463,767463,false,-2,{"$f":"SUM($O$2:O906)","v":-906},{"$f":"MAX($L$2:L906)","v":18},-2]
[null,null,null,null,null,null,null,906,237222,237222,false,2,{"$f":"SUM($O$2:O907)","v":-904},{"$f":"MAX($L$2:L907)","v":18},2]
[null,null,null,null,null,null,null,907,17800,17800,false,18,{"$f":"SUM($O$2:O908)","v":-886},{"$f":"MAX($L$2:L908)","v":18},18]
[null,null,null,null,null,null,null,908,756103,756103,false,-2,{"$f":"SUM($O$2:O909)","v":-888},{"$f":"MAX($L$2:L909)","v":18},-2]
[null,null,null,null,null,null,null,909,342190,342190,false,0,{"$f":"SUM($O$2:O910)","v":-888},{"$f":"MAX($L$2:L910)","v":18},0]
[null,null,null,null,null,null,null,910,225593,225593,false,2,{"$f":"SUM($O$2:O911)","v":-886},{"$f":"MAX($L$2:L911)","v":18},2]
[null,null,null,null,null,null,null,911,35184,35184,false,8,{"$f":"SUM($O$2:O912)","v":-878},{"$f":"MAX($L$2:L912)","v":18},8]
[null,null,null,null,null,null,null,912,509516,509516,false,-2,{"$f":"SUM($O$2:O913)","v":-880},{"$f":"MAX($L$2:L913)","v":18},-2]
[null,null,null,null,null,null,null,913,19052,19052,false,18,{"$f":"SUM($O$2:O914)","v":-862},{"$f":"MAX($L$2:L914)","v":18},18]
[null,null,null,null,null,null,null,914,508004,508004,false,-2,{"$f":"SUM($O$2:O915)","v":-864},{"$f":"MAX($L$2:L915)","v":18},-2]
[null,null,null,null,null,null,null,915,617677,617677,false,-2,{"$f":"SUM($O$2:O916)","v":-866},{"$f":"MAX($L$2:L916)","v":18},-2]
[null,null,null,null,null,null,null,916,1130730,1130730,false,-2,{"$f":"SUM($O$2:O917)","v":-868},{"$f":"MAX($L$2:L917)","v":18},-2]
[null,null,null,null,null,null,null,917,136185,136185,false,2,{"$f":"SUM($O$2:O918)","v":-866},{"$f":"MAX($L$2:L918)","v":18},2]
[null,null,null,null,null,null,null,918,1076850,1076850,false,-2,{"$f":"SUM($O$2:O919)","v":-868},{"$f":"MAX($L$2:L919)","v":18},-2]
[null,null,null,null,null,null,null,919,558107,558107,false,-2,{"$f":"SUM($O$2:O920)","v":-870},{"$f":"MAX($L$2:L920)","v":18},-2]
[null,null,null,null,null,null,null,920,117301,117301,false,2,{"$f":"SUM($O$2:O921)","v":-868},{"$f":"MAX($L$2:L921)","v":18},2]
[null,null,null,null,null,null,null,921,1481276,1481276,false,-2,{"$f":"SUM($O$2:O922)","v":-870},{"$f":"MAX($L$2:L922)","v":18},-2]
[null,null,null,null,null,null,null,922,1284500,1284500,false,-2,{"$f":"SUM($O$2:O923)","v":-872},{"$f":"MAX($L$2:L923)","v":18},-2]
[null,null,null,null,null,null,null,923,484994,484994,false,-2,{"$f":"SUM($O$2:O924)","v":-874},{"$f":"MAX($L$2:L924)","v":18},-2]
[null,null,null,null,null,null,null,924,1270199,1270199,false,-2,{"$f":"SUM($O$2:O925)","v":-876},{"$f":"MAX($L$2:L925)","v":18},-2]
[null,null,null,null,null,null,null,925,1123799,1123799,false,-2,{"$f":"SUM($O$2:O926)","v":-878},{"$f":"MAX($L$2:L926)","v":18},-2]
[null,null,null,null,null,null,null,926,231660,231660,false,2,{"$f":"SUM($O$2:O927)","v":-876},{"$f":"MAX($L$2:L927)","v":18},2]
[null,null,null,null,null,null,null,927,467251,467251,false,-2,{"$f":"SUM($O$2:O928)","v":-878},{"$f":"MAX($L$2:L928)","v":18},-2]
[null,null,null,null,null,null,null,928,746902,746902,false,-2,{"$f":"SUM($O$2:O929)","v":-880},{"$f":"MAX($L$2:L929)","v":18},-2]
[null,null,null,null,null,null,null,929,820509,820509,false,-2,{"$f":"SUM($O$2:O930)","v":-882},{"$f":"MAX($L$2:L930)","v":18},-2]
[null,null,null,null,null,null,null,930,1272314,1272314,false,-2,{"$f":"SUM($O$2:O931)","v":-884},{"$f":"MAX($L$2:L931)","v":18},-2]
[null,null,null,null,null,null,null,931,1420077,1420077,false,-2,{"$f":"SUM($O$2:O932)","v":-886},{"$f":"MAX($L$2:L932)","v":18},-2]
[null,null,null,null,null,null,null,932,1251052,1251052,false,-2,{"$f":"SUM($O$2:O933)","v":-888},{"$f":"MAX($L$2:L933)","v":18},-2]
[null,null,null,null,null,null,null,933,756796,756796,false,-2,{"$f":"SUM($O$2:O934)","v":-890},{"$f":"MAX($L$2:L934)","v":18},-2]
[null,null,null,null,null,null,null,934,1078535,1078535,false,-2,{"$f":"SUM($O$2:O935)","v":-892},{"$f":"MAX($L$2:L935)","v":18},-2]
[null,null,null,null,null,null,null,935,160337,160337,false,2,{"$f":"SUM($O$2:O936)","v":-890},{"$f":"MAX($L$2:L936)","v":18},2]
[null,null,null,null,null,null,null,936,710902,710902,false,-2,{"$f":"SUM($O$2:O937)","v":-892},{"$f":"MAX($L$2:L937)","v":18},-2]
[null,null,null,null,null,null,null,937,725902,725902,false,-2,{"$f":"SUM($O$2:O938)","v":-894},{"$f":"MAX($L$2:L938)","v":18},-2]
[null,null,null,null,null,null,null,938,1455248,1455248,false,-2,{"$f":"SUM($O$2:O939)","v":-896},{"$f":"MAX($L$2:L939)","v":18},-2]
[null,null,null,null,null,null,null,939,37011,37011,false,8,{"$f":"SUM($O$2:O940)","v":-888},{"$f":"MAX($L$2:L940)","v":18},8]
[null,null,null,null,null,null,null,940,915105,915105,false,-2,{"$f":"SUM($O$2:O941)","v":-890},{"$f":"MAX($L$2:L941)","v":18},-2]
[null,null,null,null,null,null,null,941,1202480,1202480,false,-2,{"$f":"SUM($O$2:O942)","v":-892},{"$f":"MAX($L$2:L942)","v":18},-2]
[null,null,null,null,null,null,null,942,332121,332121,false,0,{"$f":"SUM($O$2:O943)","v":-892},{"$f":"MAX($L$2:L943)","v":18},0]
[null,null,null,null,null,null,null,943,827450,827450,false,-2,{"$f":"SUM($O$2:O944)","v":-894},{"$f":"MAX($L$2:L944)","v":18},-2]
[null,null,null,null,null,null,null,944,408105,408105,false,-2,{"$f":"SUM($O$2:O945)","v":-896},{"$f":"MAX($L$2:L945)","v":18},-2]
[null,null,null,null,null,null,null,945,655323,655323,false,-2,{"$f":"SUM($O$2:O946)","v":-898},{"$f":"MAX($L$2:L946)","v":18},-2]
[null,null,null,null,null,null,null,946,62359,62359,false,8,{"$f":"SUM($O$2:O947)","v":-890},{"$f":"MAX($L$2:L947)","v":18},8]
[null,null,null,null,null,null,null,947,232256,232256,false,2,{"$f":"SUM($O$2:O948)","v":-888},{"$f":"MAX($L$2:L948)","v":18},2]
[null,null,null,null,null,null,null,948,275331,275331,false,0,{"$f":"SUM($O$2:O949)","v":-888},{"$f":"MAX($L$2:L949)","v":18},0]
[null,null,null,null,null,null,null,949,1115573,1115573,false,-2,{"$f":"SUM($O$2:O950)","v":-890},{"$f":"MAX($L$2:L950)","v":18},-2]
[null,null,null,null,null,null,null,950,1264825,1264825,false,-2,{"$f":"SUM($O$2:O951)","v":-892},{"$f":"MAX($L$2:L951)","v":18},-2]
[null,null,null,null,null,null,null,951,1030827,1030827,false,-2,{"$f":"SUM($O$2:O952)","v":-894},{"$f":"MAX($L$2:L952)","v":18},-2]
[null,null,null,null,null,null,null,952,843841,843841,false,-2,{"$f":"SUM($O$2:O953)","v":-896},{"$f":"MAX($L$2:L953)","v":18},-2]
[null,null,null,null,null,null,null,953,706212,706212,false,-2,{"$f":"SUM($O$2:O954)","v":-898},{"$f":"MAX($L$2:L954)","v":18},-2]
[null,null,null,null,null,null,null,954,936448,936448,false,-2,{"$f":"SUM($O$2:O955)","v":-900},{"$f":"MAX($L$2:L955)","v":18},-2]
[null,null,null,null,null,null,null,955,736961,736961,false,-2,{"$f":"SUM($O$2:O956)","v":-902},{"$f":"MAX($L$2:L956)","v":18},-2]
[null,null,null,null,null,null,null,956,720236,720236,false,-2,{"$f":"SUM($O$2:O957)","v":-904},{"$f":"MAX($L$2:L957)","v":18},-2]
[null,null,null,null,null,null,null,957,1027379,1027379,false,-2,{"$f":"SUM($O$2:O958)","v":-906},{"$f":"MAX($L$2:L958)","v":18},-2]
[null,null,null,null,null,null,null,958,987757,987757,false,-2,{"$f":"SUM($O$2:O959)","v":-908},{"$f":"MAX($L$2:L959)","v":18},-2]
[null,null,null,null,null,null,null,959,160572,160572,false,2,{"$f":"SUM($O$2:O960)","v":-906},{"$f":"MAX($L$2:L960)","v":18},2]
[null,null,null,null,null,null,null,960,447397,447397,false,-2,{"$f":"SUM($O$2:O961)","v":-908},{"$f":"MAX($L$2:L961)","v":18},-2]
[null,null,null,null,null,null,null,961,893577,893577,false,-2,{"$f":"SUM($O$2:O962)","v":-910},{"$f":"MAX($L$2:L962)","v":18},-2]
[null,null,null,null,null,null,null,962,{"$f":"ROUND(RAND()*(1500000-1),0)","v":1256354},1256354,{"$f":"IF(I963<=$E$10,C971)","v":false},{"$f":"IF(I963>=$F$2,$C$2,(IF(I963>=$F$3,$C$3,IF(I963>=$F$4,$C$4,IF(I963>=$F$5,$C$5,IF(I963>=$F$6,$C$6,IF(I963>=$F$7,$C$7,IF(I963>=$F$8,$C$8,IF(I963>=$F$9,$C$9,IF(I963>=0,999))))))))))","v":-2},{"$f":"SUM($O$2:O963)","v":-912},{"$f":"MAX($L$2:L963)","v":18},{"$f":"IF(K963=FALSE,L963,C971)","v":-2}]
[null,null,null,null,null,null,null,963,503805,503805,false,-2,{"$f":"SUM($O$2:O964)","v":-914},{"$f":"MAX($L$2:L964)","v":18},-2]
[null,null,null,null,null,null,null,964,1181249,{"$f":"IF($J$1<2,I965)","v":1181249},false,-2,{"$f":"SUM($O$2:O965)","v":-916},{"$f":"MAX($L$2:L965)","v":18},-2]
[null,null,null,null,null,null,null,965,547409,547409,false,-2,{"$f":"SUM($O$2:O966)","v":-918},{"$f":"MAX($L$2:L966)","v":18},-2]
[null,null,null,null,null,null,null,966,943631,943631,false,-2,{"$f":"SUM($O$2:O967)","v":-920},{"$f":"MAX($L$2:L967)","v":18},-2]
[null,null,null,null,null,null,null,967,906074,906074,false,-2,{"$f":"SUM($O$2:O968)","v":-922},{"$f":"MAX($L$2:L968)","v":18},-2]
[null,null,null,null,null,null,null,968,269537,269537,false,0,{"$f":"SUM($O$2:O969)","v":-922},{"$f":"MAX($L$2:L969)","v":18},0]
[null,null,null,null,null,null,null,969,782469,782469,false,-2,{"$f":"SUM($O$2:O970)","v":-924},{"$f":"MAX($L$2:L970)","v":18},-2]
[null,null,null,null,null,null,null,970,1167275,1167275,false,-2,{"$f":"SUM($O$2:O971)","v":-926},{"$f":"MAX($L$2:L971)","v":18},-2]
[null,null,null,null,null,null,null,971,1271563,1271563,false,-2,{"$f":"SUM($O$2:O972)","v":-928},{"$f":"MAX($L$2:L972)","v":18},-2]
[null,null,null,null,null,null,null,972,493611,493611,false,-2,{"$f":"SUM($O$2:O973)","v":-930},{"$f":"MAX($L$2:L973)","v":18},-2]
[null,null,null,null,null,null,null,973,753967,753967,false,-2,{"$f":"SUM($O$2:O974)","v":-932},{"$f":"MAX($L$2:L974)","v":18},-2]
[null,null,null,null,null,null,null,974,1423293,1423293,false,-2,{"$f":"SUM($O$2:O975)","v":-934},{"$f":"MAX($L$2:L975)","v":18},-2]
[null,null,null,null,null,null,null,975,831214,831214,false,-2,{"$f":"SUM($O$2:O976)","v":-936},{"$f":"MAX($L$2:L976)","v":18},-2]
[null,null,null,null,null,null,null,976,1186998,1186998,false,-2,{"$f":"SUM($O$2:O977)","v":-938},{"$f":"MAX($L$2:L977)","v":18},-2]
[null,null,null,null,null,null,null,977,630212,630212,false,-2,{"$f":"SUM($O$2:O978)","v":-940},{"$f":"MAX($L$2:L978)","v":18},-2]
[null,null,null,null,null,null,null,978,455570,455570,false,-2,{"$f":"SUM($O$2:O979)","v":-942},{"$f":"MAX($L$2:L979)","v":18},-2]
[null,null,null,null,null,null,null,979,815464,815464,false,-2,{"$f":"SUM($O$2:O980)","v":-944},{"$f":"MAX($L$2:L980)","v":18},-2]
[null,null,null,null,null,null,null,980,1359019,1359019,false,-2,{"$f":"SUM($O$2:O981)","v":-946},{"$f":"MAX($L$2:L981)","v":18},-2]
[null,null,null,null,null,null,null,981,264125,264125,false,0,{"$f":"SUM($O$2:O982)","v":-946},{"$f":"MAX($L$2:L982)","v":18},0]
[null,null,null,null,null,null,null,982,1416441,1416441,false,-2,{"$f":"SUM($O$2:O983)","v":-948},{"$f":"MAX($L$2:L983)","v":18},-2]
[null,null,null,null,null,null,null,983,631540,631540,false,-2,{"$f":"SUM($O$2:O984)","v":-950},{"$f":"MAX($L$2:L984)","v":18},-2]
[null,null,null,null,null,null,null,984,79995,79995,false,2,{"$f":"SUM($O$2:O985)","v":-948},{"$f":"MAX($L$2:L985)","v":18},2]
[null,null,null,null,null,null,null,985,780928,780928,false,-2,{"$f":"SUM($O$2:O986)","v":-950},{"$f":"MAX($L$2:L986)","v":18},-2]
[null,null,null,null,null,null,null,986,382348,382348,false,-2,{"$f":"SUM($O$2:O987)","v":-952},{"$f":"MAX($L$2:L987)","v":18},-2]
[null,null,null,null,null,null,null,987,819035,819035,false,-2,{"$f":"SUM($O$2:O988)","v":-954},{"$f":"MAX($L$2:L988)","v":18},-2]
[null,null,null,null,null,null,null,988,89900,89900,false,2,{"$f":"SUM($O$2:O989)","v":-952},{"$f":"MAX($L$2:L989)","v":18},2]
[null,null,null,null,null,null,null,989,795153,795153,false,-2,{"$f":"SUM($O$2:O990)","v":-954},{"$f":"MAX($L$2:L990)","v":18},-2]
[null,null,null,null,null,null,null,990,832673,832673,false,-2,{"$f":"SUM($O$2:O991)","v":-956},{"$f":"MAX($L$2:L991)","v":18},-2]
[null,null,null,null,null,null,null,991,1151204,1151204,false,-2,{"$f":"SUM($O$2:O992)","v":-958},{"$f":"MAX($L$2:L992)","v":18},-2]
[null,null,null,null,null,null,null,992,388497,388497,false,-2,{"$f":"SUM($O$2:O993)","v":-960},{"$f":"MAX($L$2:L993)","v":18},-2]
[null,null,null,null,null,null,null,993,478885,478885,false,-2,{"$f":"SUM($O$2:O994)","v":-962},{"$f":"MAX($L$2:L994)","v":18},-2]
[null,null,null,null,null,null,null,994,526936,526936,false,-2,{"$f":"SUM($O$2:O995)","v":-964},{"$f":"MAX($L$2:L995)","v":18},-2]
[null,null,null,null,null,null,null,995,144103,144103,false,2,{"$f":"SUM($O$2:O996)","v":-962},{"$f":"MAX($L$2:L996)","v":18},2]
[null,null,null,null,null,null,null,996,171435,171435,false,2,{"$f":"SUM($O$2:O997)","v":-960},{"$f":"MAX($L$2:L997)","v":18},2]
[null,null,null,null,null,null,null,997,390063,390063,false,-2,{"$f":"SUM($O$2:O998)","v":-962},{"$f":"MAX($L$2:L998)","v":18},-2]
[null,null,null,null,null,null,null,998,241249,241249,false,2,{"$f":"SUM($O$2:O999)","v":-960},{"$f":"MAX($L$2:L999)","v":18},2]
[null,null,null,null,null,null,null,999,709327,709327,false,-2,{"$f":"SUM($O$2:O1000)","v":-962},{"$f":"MAX($L$2:L1000)","v":18},-2]
[null,null,null,null,null,null,null,1000,945717,{"$f":"IF($J$1<2,I1001)","v":945717},{"$f":"IF(I1001<=$E$10,C1009)","v":false},{"$f":"IF(I1001>=$F$2,$C$2,(IF(I1001>=$F$3,$C$3,IF(I1001>=$F$4,$C$4,IF(I1001>=$F$5,$C$5,IF(I1001>=$F$6,$C$6,IF(I1001>=$F$7,$C$7,IF(I1001>=$F$8,$C$8,IF(I1001>=$F$9,$C$9,IF(I1001>=0,999))))))))))","v":-2},{"$f":"SUM($O$2:O1001)","v":-964},{"$f":"MAX($L$2:L1001)","v":18},-2]
[null,null,null,null,null,null,null,null,null,null,null,null,null,null,{"$f":"SUM(O2:O1001)","v":-964}]